BEGIN:VCALENDAR
VERSION:2.0
PRODID:-//GMBC - ECPv6.15.20//NONSGML v1.0//EN
CALSCALE:GREGORIAN
METHOD:PUBLISH
X-ORIGINAL-URL:https://gmbc.co.za
X-WR-CALDESC:Events for GMBC
REFRESH-INTERVAL;VALUE=DURATION:PT1H
X-Robots-Tag:noindex
X-PUBLISHED-TTL:PT1H
BEGIN:VTIMEZONE
TZID:Africa/Johannesburg
BEGIN:STANDARD
TZOFFSETFROM:+0200
TZOFFSETTO:+0200
TZNAME:SAST
DTSTART:20270101T000000
END:STANDARD
END:VTIMEZONE
BEGIN:VEVENT
DTSTART;TZID=Africa/Johannesburg:20280206T090000
DTEND;TZID=Africa/Johannesburg:20280206T130000
DTSTAMP:20260422T002244
CREATED:20260206T050031Z
LAST-MODIFIED:20260206T050031Z
UID:10000199-1833440400-1833454800@gmbc.co.za
SUMMARY:Social at Maggie's Farm - Home of the Chicken Pie
DESCRIPTION:Please come join us for a breakfast at 9 am\, followed by activities on the water from 10h30 to 13h00.
URL:https://gmbc.co.za/event/social-at-maggies-farm-home-of-the-chicken-pie/2028-02-06/
LOCATION:Maggies Farm\, The Restaurant at Maggie's Farm\, Lanseria\, Gauteng\, 1748\, South Africa
END:VEVENT
BEGIN:VEVENT
DTSTART;TZID=Africa/Johannesburg:20280213T110000
DTEND;TZID=Africa/Johannesburg:20280213T130000
DTSTAMP:20260422T002244
CREATED:20260105T055333Z
LAST-MODIFIED:20260206T052023Z
UID:10000080-1834052400-1834059600@gmbc.co.za
SUMMARY:Scale and Sail Open Day
DESCRIPTION:Please join us on the 2nd Sunday of the month for a variety of yachts\, boats\, ships and submarines on and under the water.
URL:https://gmbc.co.za/event/scale-and-sail-open-day/2028-02-13/
LOCATION:GMBC at Johannesburg Botanical Gardens\, Johannesburg Botanical Gardens\, Johannesburg\, South Africa
GEO:-26.151746038279;28.003153071932
X-APPLE-STRUCTURED-LOCATION;VALUE=URI;X-ADDRESS=GMBC at Johannesburg Botanical Gardens Johannesburg Botanical Gardens Johannesburg South Africa;X-APPLE-RADIUS=500;X-TITLE=Johannesburg Botanical Gardens:geo:28.003153071932,-26.151746038279
END:VEVENT
BEGIN:VEVENT
DTSTART;TZID=Africa/Johannesburg:20280227T110000
DTEND;TZID=Africa/Johannesburg:20280227T130000
DTSTAMP:20260422T002244
CREATED:20260206T045842Z
LAST-MODIFIED:20260206T052103Z
UID:10000140-1835262000-1835269200@gmbc.co.za
SUMMARY:Scale and Sail Open Day
DESCRIPTION:Please join us on the last Sunday of the month for a variety of yachts\, boats\, ships and submarines on and under the water.
URL:https://gmbc.co.za/event/scale-and-sail-open-day-2/2028-02-27/
END:VEVENT
BEGIN:VEVENT
DTSTART;TZID=Africa/Johannesburg:20280305T090000
DTEND;TZID=Africa/Johannesburg:20280305T130000
DTSTAMP:20260422T002244
CREATED:20260206T050031Z
LAST-MODIFIED:20260206T050031Z
UID:10000200-1835859600-1835874000@gmbc.co.za
SUMMARY:Social at Maggie's Farm - Home of the Chicken Pie
DESCRIPTION:Please come join us for a breakfast at 9 am\, followed by activities on the water from 10h30 to 13h00.
URL:https://gmbc.co.za/event/social-at-maggies-farm-home-of-the-chicken-pie/2028-03-05/
LOCATION:Maggies Farm\, The Restaurant at Maggie's Farm\, Lanseria\, Gauteng\, 1748\, South Africa
END:VEVENT
BEGIN:VEVENT
DTSTART;TZID=Africa/Johannesburg:20280312T110000
DTEND;TZID=Africa/Johannesburg:20280312T130000
DTSTAMP:20260422T002244
CREATED:20260105T055333Z
LAST-MODIFIED:20260206T052023Z
UID:10000081-1836471600-1836478800@gmbc.co.za
SUMMARY:Scale and Sail Open Day
DESCRIPTION:Please join us on the 2nd Sunday of the month for a variety of yachts\, boats\, ships and submarines on and under the water.
URL:https://gmbc.co.za/event/scale-and-sail-open-day/2028-03-12/
LOCATION:GMBC at Johannesburg Botanical Gardens\, Johannesburg Botanical Gardens\, Johannesburg\, South Africa
GEO:-26.151746038279;28.003153071932
X-APPLE-STRUCTURED-LOCATION;VALUE=URI;X-ADDRESS=GMBC at Johannesburg Botanical Gardens Johannesburg Botanical Gardens Johannesburg South Africa;X-APPLE-RADIUS=500;X-TITLE=Johannesburg Botanical Gardens:geo:28.003153071932,-26.151746038279
END:VEVENT
BEGIN:VEVENT
DTSTART;TZID=Africa/Johannesburg:20280326T110000
DTEND;TZID=Africa/Johannesburg:20280326T130000
DTSTAMP:20260422T002244
CREATED:20260206T045842Z
LAST-MODIFIED:20260206T052103Z
UID:10000141-1837681200-1837688400@gmbc.co.za
SUMMARY:Scale and Sail Open Day
DESCRIPTION:Please join us on the last Sunday of the month for a variety of yachts\, boats\, ships and submarines on and under the water.
URL:https://gmbc.co.za/event/scale-and-sail-open-day-2/2028-03-26/
END:VEVENT
BEGIN:VEVENT
DTSTART;TZID=Africa/Johannesburg:20280402T090000
DTEND;TZID=Africa/Johannesburg:20280402T130000
DTSTAMP:20260422T002244
CREATED:20260206T050031Z
LAST-MODIFIED:20260206T050031Z
UID:10000201-1838278800-1838293200@gmbc.co.za
SUMMARY:Social at Maggie's Farm - Home of the Chicken Pie
DESCRIPTION:Please come join us for a breakfast at 9 am\, followed by activities on the water from 10h30 to 13h00.
URL:https://gmbc.co.za/event/social-at-maggies-farm-home-of-the-chicken-pie/2028-04-02/
LOCATION:Maggies Farm\, The Restaurant at Maggie's Farm\, Lanseria\, Gauteng\, 1748\, South Africa
END:VEVENT
BEGIN:VEVENT
DTSTART;TZID=Africa/Johannesburg:20280409T110000
DTEND;TZID=Africa/Johannesburg:20280409T130000
DTSTAMP:20260422T002244
CREATED:20260105T055333Z
LAST-MODIFIED:20260206T052023Z
UID:10000082-1838890800-1838898000@gmbc.co.za
SUMMARY:Scale and Sail Open Day
DESCRIPTION:Please join us on the 2nd Sunday of the month for a variety of yachts\, boats\, ships and submarines on and under the water.
URL:https://gmbc.co.za/event/scale-and-sail-open-day/2028-04-09/
LOCATION:GMBC at Johannesburg Botanical Gardens\, Johannesburg Botanical Gardens\, Johannesburg\, South Africa
GEO:-26.151746038279;28.003153071932
X-APPLE-STRUCTURED-LOCATION;VALUE=URI;X-ADDRESS=GMBC at Johannesburg Botanical Gardens Johannesburg Botanical Gardens Johannesburg South Africa;X-APPLE-RADIUS=500;X-TITLE=Johannesburg Botanical Gardens:geo:28.003153071932,-26.151746038279
END:VEVENT
BEGIN:VEVENT
DTSTART;TZID=Africa/Johannesburg:20280423T110000
DTEND;TZID=Africa/Johannesburg:20280423T130000
DTSTAMP:20260422T002244
CREATED:20260206T045842Z
LAST-MODIFIED:20260206T052103Z
UID:10000142-1840100400-1840107600@gmbc.co.za
SUMMARY:Scale and Sail Open Day
DESCRIPTION:Please join us on the last Sunday of the month for a variety of yachts\, boats\, ships and submarines on and under the water.
URL:https://gmbc.co.za/event/scale-and-sail-open-day-2/2028-04-23/
END:VEVENT
BEGIN:VEVENT
DTSTART;TZID=Africa/Johannesburg:20280507T090000
DTEND;TZID=Africa/Johannesburg:20280507T130000
DTSTAMP:20260422T002245
CREATED:20260206T050031Z
LAST-MODIFIED:20260206T050031Z
UID:10000202-1841302800-1841317200@gmbc.co.za
SUMMARY:Social at Maggie's Farm - Home of the Chicken Pie
DESCRIPTION:Please come join us for a breakfast at 9 am\, followed by activities on the water from 10h30 to 13h00.
URL:https://gmbc.co.za/event/social-at-maggies-farm-home-of-the-chicken-pie/2028-05-07/
LOCATION:Maggies Farm\, The Restaurant at Maggie's Farm\, Lanseria\, Gauteng\, 1748\, South Africa
END:VEVENT
BEGIN:VEVENT
DTSTART;TZID=Africa/Johannesburg:20280514T110000
DTEND;TZID=Africa/Johannesburg:20280514T130000
DTSTAMP:20260422T002245
CREATED:20260105T055333Z
LAST-MODIFIED:20260206T052023Z
UID:10000083-1841914800-1841922000@gmbc.co.za
SUMMARY:Scale and Sail Open Day
DESCRIPTION:Please join us on the 2nd Sunday of the month for a variety of yachts\, boats\, ships and submarines on and under the water.
URL:https://gmbc.co.za/event/scale-and-sail-open-day/2028-05-14/
LOCATION:GMBC at Johannesburg Botanical Gardens\, Johannesburg Botanical Gardens\, Johannesburg\, South Africa
GEO:-26.151746038279;28.003153071932
X-APPLE-STRUCTURED-LOCATION;VALUE=URI;X-ADDRESS=GMBC at Johannesburg Botanical Gardens Johannesburg Botanical Gardens Johannesburg South Africa;X-APPLE-RADIUS=500;X-TITLE=Johannesburg Botanical Gardens:geo:28.003153071932,-26.151746038279
END:VEVENT
BEGIN:VEVENT
DTSTART;TZID=Africa/Johannesburg:20280528T110000
DTEND;TZID=Africa/Johannesburg:20280528T130000
DTSTAMP:20260422T002245
CREATED:20260206T045842Z
LAST-MODIFIED:20260206T052103Z
UID:10000143-1843124400-1843131600@gmbc.co.za
SUMMARY:Scale and Sail Open Day
DESCRIPTION:Please join us on the last Sunday of the month for a variety of yachts\, boats\, ships and submarines on and under the water.
URL:https://gmbc.co.za/event/scale-and-sail-open-day-2/2028-05-28/
END:VEVENT
BEGIN:VEVENT
DTSTART;TZID=Africa/Johannesburg:20280604T090000
DTEND;TZID=Africa/Johannesburg:20280604T130000
DTSTAMP:20260422T002245
CREATED:20260206T050031Z
LAST-MODIFIED:20260206T050031Z
UID:10000203-1843722000-1843736400@gmbc.co.za
SUMMARY:Social at Maggie's Farm - Home of the Chicken Pie
DESCRIPTION:Please come join us for a breakfast at 9 am\, followed by activities on the water from 10h30 to 13h00.
URL:https://gmbc.co.za/event/social-at-maggies-farm-home-of-the-chicken-pie/2028-06-04/
LOCATION:Maggies Farm\, The Restaurant at Maggie's Farm\, Lanseria\, Gauteng\, 1748\, South Africa
END:VEVENT
BEGIN:VEVENT
DTSTART;TZID=Africa/Johannesburg:20280611T110000
DTEND;TZID=Africa/Johannesburg:20280611T130000
DTSTAMP:20260422T002245
CREATED:20260105T055333Z
LAST-MODIFIED:20260206T052023Z
UID:10000084-1844334000-1844341200@gmbc.co.za
SUMMARY:Scale and Sail Open Day
DESCRIPTION:Please join us on the 2nd Sunday of the month for a variety of yachts\, boats\, ships and submarines on and under the water.
URL:https://gmbc.co.za/event/scale-and-sail-open-day/2028-06-11/
LOCATION:GMBC at Johannesburg Botanical Gardens\, Johannesburg Botanical Gardens\, Johannesburg\, South Africa
GEO:-26.151746038279;28.003153071932
X-APPLE-STRUCTURED-LOCATION;VALUE=URI;X-ADDRESS=GMBC at Johannesburg Botanical Gardens Johannesburg Botanical Gardens Johannesburg South Africa;X-APPLE-RADIUS=500;X-TITLE=Johannesburg Botanical Gardens:geo:28.003153071932,-26.151746038279
END:VEVENT
BEGIN:VEVENT
DTSTART;TZID=Africa/Johannesburg:20280625T110000
DTEND;TZID=Africa/Johannesburg:20280625T130000
DTSTAMP:20260422T002245
CREATED:20260206T045842Z
LAST-MODIFIED:20260206T052103Z
UID:10000144-1845543600-1845550800@gmbc.co.za
SUMMARY:Scale and Sail Open Day
DESCRIPTION:Please join us on the last Sunday of the month for a variety of yachts\, boats\, ships and submarines on and under the water.
URL:https://gmbc.co.za/event/scale-and-sail-open-day-2/2028-06-25/
END:VEVENT
BEGIN:VEVENT
DTSTART;TZID=Africa/Johannesburg:20280702T090000
DTEND;TZID=Africa/Johannesburg:20280702T130000
DTSTAMP:20260422T002245
CREATED:20260206T050031Z
LAST-MODIFIED:20260206T050031Z
UID:10000204-1846141200-1846155600@gmbc.co.za
SUMMARY:Social at Maggie's Farm - Home of the Chicken Pie
DESCRIPTION:Please come join us for a breakfast at 9 am\, followed by activities on the water from 10h30 to 13h00.
URL:https://gmbc.co.za/event/social-at-maggies-farm-home-of-the-chicken-pie/2028-07-02/
LOCATION:Maggies Farm\, The Restaurant at Maggie's Farm\, Lanseria\, Gauteng\, 1748\, South Africa
END:VEVENT
BEGIN:VEVENT
DTSTART;TZID=Africa/Johannesburg:20280709T110000
DTEND;TZID=Africa/Johannesburg:20280709T130000
DTSTAMP:20260422T002245
CREATED:20260105T055333Z
LAST-MODIFIED:20260206T052023Z
UID:10000085-1846753200-1846760400@gmbc.co.za
SUMMARY:Scale and Sail Open Day
DESCRIPTION:Please join us on the 2nd Sunday of the month for a variety of yachts\, boats\, ships and submarines on and under the water.
URL:https://gmbc.co.za/event/scale-and-sail-open-day/2028-07-09/
LOCATION:GMBC at Johannesburg Botanical Gardens\, Johannesburg Botanical Gardens\, Johannesburg\, South Africa
GEO:-26.151746038279;28.003153071932
X-APPLE-STRUCTURED-LOCATION;VALUE=URI;X-ADDRESS=GMBC at Johannesburg Botanical Gardens Johannesburg Botanical Gardens Johannesburg South Africa;X-APPLE-RADIUS=500;X-TITLE=Johannesburg Botanical Gardens:geo:28.003153071932,-26.151746038279
END:VEVENT
BEGIN:VEVENT
DTSTART;TZID=Africa/Johannesburg:20280723T110000
DTEND;TZID=Africa/Johannesburg:20280723T130000
DTSTAMP:20260422T002245
CREATED:20260206T045842Z
LAST-MODIFIED:20260206T052103Z
UID:10000145-1847962800-1847970000@gmbc.co.za
SUMMARY:Scale and Sail Open Day
DESCRIPTION:Please join us on the last Sunday of the month for a variety of yachts\, boats\, ships and submarines on and under the water.
URL:https://gmbc.co.za/event/scale-and-sail-open-day-2/2028-07-23/
END:VEVENT
BEGIN:VEVENT
DTSTART;TZID=Africa/Johannesburg:20280806T090000
DTEND;TZID=Africa/Johannesburg:20280806T130000
DTSTAMP:20260422T002245
CREATED:20260206T050031Z
LAST-MODIFIED:20260206T050031Z
UID:10000205-1849165200-1849179600@gmbc.co.za
SUMMARY:Social at Maggie's Farm - Home of the Chicken Pie
DESCRIPTION:Please come join us for a breakfast at 9 am\, followed by activities on the water from 10h30 to 13h00.
URL:https://gmbc.co.za/event/social-at-maggies-farm-home-of-the-chicken-pie/2028-08-06/
LOCATION:Maggies Farm\, The Restaurant at Maggie's Farm\, Lanseria\, Gauteng\, 1748\, South Africa
END:VEVENT
BEGIN:VEVENT
DTSTART;TZID=Africa/Johannesburg:20280813T110000
DTEND;TZID=Africa/Johannesburg:20280813T130000
DTSTAMP:20260422T002245
CREATED:20260105T055333Z
LAST-MODIFIED:20260206T052023Z
UID:10000086-1849777200-1849784400@gmbc.co.za
SUMMARY:Scale and Sail Open Day
DESCRIPTION:Please join us on the 2nd Sunday of the month for a variety of yachts\, boats\, ships and submarines on and under the water.
URL:https://gmbc.co.za/event/scale-and-sail-open-day/2028-08-13/
LOCATION:GMBC at Johannesburg Botanical Gardens\, Johannesburg Botanical Gardens\, Johannesburg\, South Africa
GEO:-26.151746038279;28.003153071932
X-APPLE-STRUCTURED-LOCATION;VALUE=URI;X-ADDRESS=GMBC at Johannesburg Botanical Gardens Johannesburg Botanical Gardens Johannesburg South Africa;X-APPLE-RADIUS=500;X-TITLE=Johannesburg Botanical Gardens:geo:28.003153071932,-26.151746038279
END:VEVENT
BEGIN:VEVENT
DTSTART;TZID=Africa/Johannesburg:20280827T110000
DTEND;TZID=Africa/Johannesburg:20280827T130000
DTSTAMP:20260422T002245
CREATED:20260206T045842Z
LAST-MODIFIED:20260206T052103Z
UID:10000146-1850986800-1850994000@gmbc.co.za
SUMMARY:Scale and Sail Open Day
DESCRIPTION:Please join us on the last Sunday of the month for a variety of yachts\, boats\, ships and submarines on and under the water.
URL:https://gmbc.co.za/event/scale-and-sail-open-day-2/2028-08-27/
END:VEVENT
BEGIN:VEVENT
DTSTART;TZID=Africa/Johannesburg:20280903T090000
DTEND;TZID=Africa/Johannesburg:20280903T130000
DTSTAMP:20260422T002245
CREATED:20260206T050031Z
LAST-MODIFIED:20260206T050031Z
UID:10000206-1851584400-1851598800@gmbc.co.za
SUMMARY:Social at Maggie's Farm - Home of the Chicken Pie
DESCRIPTION:Please come join us for a breakfast at 9 am\, followed by activities on the water from 10h30 to 13h00.
URL:https://gmbc.co.za/event/social-at-maggies-farm-home-of-the-chicken-pie/2028-09-03/
LOCATION:Maggies Farm\, The Restaurant at Maggie's Farm\, Lanseria\, Gauteng\, 1748\, South Africa
END:VEVENT
BEGIN:VEVENT
DTSTART;TZID=Africa/Johannesburg:20280910T110000
DTEND;TZID=Africa/Johannesburg:20280910T130000
DTSTAMP:20260422T002245
CREATED:20260105T055333Z
LAST-MODIFIED:20260206T052023Z
UID:10000087-1852196400-1852203600@gmbc.co.za
SUMMARY:Scale and Sail Open Day
DESCRIPTION:Please join us on the 2nd Sunday of the month for a variety of yachts\, boats\, ships and submarines on and under the water.
URL:https://gmbc.co.za/event/scale-and-sail-open-day/2028-09-10/
LOCATION:GMBC at Johannesburg Botanical Gardens\, Johannesburg Botanical Gardens\, Johannesburg\, South Africa
GEO:-26.151746038279;28.003153071932
X-APPLE-STRUCTURED-LOCATION;VALUE=URI;X-ADDRESS=GMBC at Johannesburg Botanical Gardens Johannesburg Botanical Gardens Johannesburg South Africa;X-APPLE-RADIUS=500;X-TITLE=Johannesburg Botanical Gardens:geo:28.003153071932,-26.151746038279
END:VEVENT
BEGIN:VEVENT
DTSTART;TZID=Africa/Johannesburg:20280924T110000
DTEND;TZID=Africa/Johannesburg:20280924T130000
DTSTAMP:20260422T002245
CREATED:20260206T045842Z
LAST-MODIFIED:20260206T052103Z
UID:10000147-1853406000-1853413200@gmbc.co.za
SUMMARY:Scale and Sail Open Day
DESCRIPTION:Please join us on the last Sunday of the month for a variety of yachts\, boats\, ships and submarines on and under the water.
URL:https://gmbc.co.za/event/scale-and-sail-open-day-2/2028-09-24/
END:VEVENT
BEGIN:VEVENT
DTSTART;TZID=Africa/Johannesburg:20281001T090000
DTEND;TZID=Africa/Johannesburg:20281001T130000
DTSTAMP:20260422T002245
CREATED:20260206T050031Z
LAST-MODIFIED:20260206T050031Z
UID:10000207-1854003600-1854018000@gmbc.co.za
SUMMARY:Social at Maggie's Farm - Home of the Chicken Pie
DESCRIPTION:Please come join us for a breakfast at 9 am\, followed by activities on the water from 10h30 to 13h00.
URL:https://gmbc.co.za/event/social-at-maggies-farm-home-of-the-chicken-pie/2028-10-01/
LOCATION:Maggies Farm\, The Restaurant at Maggie's Farm\, Lanseria\, Gauteng\, 1748\, South Africa
END:VEVENT
BEGIN:VEVENT
DTSTART;TZID=Africa/Johannesburg:20281008T110000
DTEND;TZID=Africa/Johannesburg:20281008T130000
DTSTAMP:20260422T002245
CREATED:20260105T055333Z
LAST-MODIFIED:20260206T052023Z
UID:10000088-1854615600-1854622800@gmbc.co.za
SUMMARY:Scale and Sail Open Day
DESCRIPTION:Please join us on the 2nd Sunday of the month for a variety of yachts\, boats\, ships and submarines on and under the water.
URL:https://gmbc.co.za/event/scale-and-sail-open-day/2028-10-08/
LOCATION:GMBC at Johannesburg Botanical Gardens\, Johannesburg Botanical Gardens\, Johannesburg\, South Africa
GEO:-26.151746038279;28.003153071932
X-APPLE-STRUCTURED-LOCATION;VALUE=URI;X-ADDRESS=GMBC at Johannesburg Botanical Gardens Johannesburg Botanical Gardens Johannesburg South Africa;X-APPLE-RADIUS=500;X-TITLE=Johannesburg Botanical Gardens:geo:28.003153071932,-26.151746038279
END:VEVENT
BEGIN:VEVENT
DTSTART;TZID=Africa/Johannesburg:20281022T110000
DTEND;TZID=Africa/Johannesburg:20281022T130000
DTSTAMP:20260422T002245
CREATED:20260206T045842Z
LAST-MODIFIED:20260206T052103Z
UID:10000148-1855825200-1855832400@gmbc.co.za
SUMMARY:Scale and Sail Open Day
DESCRIPTION:Please join us on the last Sunday of the month for a variety of yachts\, boats\, ships and submarines on and under the water.
URL:https://gmbc.co.za/event/scale-and-sail-open-day-2/2028-10-22/
END:VEVENT
BEGIN:VEVENT
DTSTART;TZID=Africa/Johannesburg:20281105T090000
DTEND;TZID=Africa/Johannesburg:20281105T130000
DTSTAMP:20260422T002245
CREATED:20260206T050031Z
LAST-MODIFIED:20260206T050031Z
UID:10000208-1857027600-1857042000@gmbc.co.za
SUMMARY:Social at Maggie's Farm - Home of the Chicken Pie
DESCRIPTION:Please come join us for a breakfast at 9 am\, followed by activities on the water from 10h30 to 13h00.
URL:https://gmbc.co.za/event/social-at-maggies-farm-home-of-the-chicken-pie/2028-11-05/
LOCATION:Maggies Farm\, The Restaurant at Maggie's Farm\, Lanseria\, Gauteng\, 1748\, South Africa
END:VEVENT
BEGIN:VEVENT
DTSTART;TZID=Africa/Johannesburg:20281112T110000
DTEND;TZID=Africa/Johannesburg:20281112T130000
DTSTAMP:20260422T002245
CREATED:20260105T055333Z
LAST-MODIFIED:20260206T052023Z
UID:10000089-1857639600-1857646800@gmbc.co.za
SUMMARY:Scale and Sail Open Day
DESCRIPTION:Please join us on the 2nd Sunday of the month for a variety of yachts\, boats\, ships and submarines on and under the water.
URL:https://gmbc.co.za/event/scale-and-sail-open-day/2028-11-12/
LOCATION:GMBC at Johannesburg Botanical Gardens\, Johannesburg Botanical Gardens\, Johannesburg\, South Africa
GEO:-26.151746038279;28.003153071932
X-APPLE-STRUCTURED-LOCATION;VALUE=URI;X-ADDRESS=GMBC at Johannesburg Botanical Gardens Johannesburg Botanical Gardens Johannesburg South Africa;X-APPLE-RADIUS=500;X-TITLE=Johannesburg Botanical Gardens:geo:28.003153071932,-26.151746038279
END:VEVENT
BEGIN:VEVENT
DTSTART;TZID=Africa/Johannesburg:20281126T110000
DTEND;TZID=Africa/Johannesburg:20281126T130000
DTSTAMP:20260422T002245
CREATED:20260206T045842Z
LAST-MODIFIED:20260206T052103Z
UID:10000149-1858849200-1858856400@gmbc.co.za
SUMMARY:Scale and Sail Open Day
DESCRIPTION:Please join us on the last Sunday of the month for a variety of yachts\, boats\, ships and submarines on and under the water.
URL:https://gmbc.co.za/event/scale-and-sail-open-day-2/2028-11-26/
END:VEVENT
END:VCALENDAR