BEGIN:VCALENDAR
VERSION:2.0
PRODID:-//GMBC - ECPv6.15.20//NONSGML v1.0//EN
CALSCALE:GREGORIAN
METHOD:PUBLISH
X-WR-CALNAME:GMBC
X-ORIGINAL-URL:https://gmbc.co.za
X-WR-CALDESC:Events for GMBC
REFRESH-INTERVAL;VALUE=DURATION:PT1H
X-Robots-Tag:noindex
X-PUBLISHED-TTL:PT1H
BEGIN:VTIMEZONE
TZID:Africa/Johannesburg
BEGIN:STANDARD
TZOFFSETFROM:+0200
TZOFFSETTO:+0200
TZNAME:SAST
DTSTART:20280101T000000
END:STANDARD
END:VTIMEZONE
BEGIN:VEVENT
DTSTART;TZID=Africa/Johannesburg:20290204T090000
DTEND;TZID=Africa/Johannesburg:20290204T130000
DTSTAMP:20260422T051823
CREATED:20260206T050031Z
LAST-MODIFIED:20260206T050031Z
UID:10000211-1864890000-1864904400@gmbc.co.za
SUMMARY:Social at Maggie's Farm - Home of the Chicken Pie
DESCRIPTION:Please come join us for a breakfast at 9 am\, followed by activities on the water from 10h30 to 13h00.
URL:https://gmbc.co.za/event/social-at-maggies-farm-home-of-the-chicken-pie/2029-02-04/
LOCATION:Maggies Farm\, The Restaurant at Maggie's Farm\, Lanseria\, Gauteng\, 1748\, South Africa
END:VEVENT
BEGIN:VEVENT
DTSTART;TZID=Africa/Johannesburg:20290211T110000
DTEND;TZID=Africa/Johannesburg:20290211T130000
DTSTAMP:20260422T051823
CREATED:20260105T055333Z
LAST-MODIFIED:20260206T052023Z
UID:10000092-1865502000-1865509200@gmbc.co.za
SUMMARY:Scale and Sail Open Day
DESCRIPTION:Please join us on the 2nd Sunday of the month for a variety of yachts\, boats\, ships and submarines on and under the water.
URL:https://gmbc.co.za/event/scale-and-sail-open-day/2029-02-11/
LOCATION:GMBC at Johannesburg Botanical Gardens\, Johannesburg Botanical Gardens\, Johannesburg\, South Africa
GEO:-26.151746038279;28.003153071932
X-APPLE-STRUCTURED-LOCATION;VALUE=URI;X-ADDRESS=GMBC at Johannesburg Botanical Gardens Johannesburg Botanical Gardens Johannesburg South Africa;X-APPLE-RADIUS=500;X-TITLE=Johannesburg Botanical Gardens:geo:28.003153071932,-26.151746038279
END:VEVENT
BEGIN:VEVENT
DTSTART;TZID=Africa/Johannesburg:20290225T110000
DTEND;TZID=Africa/Johannesburg:20290225T130000
DTSTAMP:20260422T051823
CREATED:20260206T045842Z
LAST-MODIFIED:20260206T052103Z
UID:10000152-1866711600-1866718800@gmbc.co.za
SUMMARY:Scale and Sail Open Day
DESCRIPTION:Please join us on the last Sunday of the month for a variety of yachts\, boats\, ships and submarines on and under the water.
URL:https://gmbc.co.za/event/scale-and-sail-open-day-2/2029-02-25/
END:VEVENT
BEGIN:VEVENT
DTSTART;TZID=Africa/Johannesburg:20290304T090000
DTEND;TZID=Africa/Johannesburg:20290304T130000
DTSTAMP:20260422T051823
CREATED:20260206T050031Z
LAST-MODIFIED:20260206T050031Z
UID:10000212-1867309200-1867323600@gmbc.co.za
SUMMARY:Social at Maggie's Farm - Home of the Chicken Pie
DESCRIPTION:Please come join us for a breakfast at 9 am\, followed by activities on the water from 10h30 to 13h00.
URL:https://gmbc.co.za/event/social-at-maggies-farm-home-of-the-chicken-pie/2029-03-04/
LOCATION:Maggies Farm\, The Restaurant at Maggie's Farm\, Lanseria\, Gauteng\, 1748\, South Africa
END:VEVENT
BEGIN:VEVENT
DTSTART;TZID=Africa/Johannesburg:20290311T110000
DTEND;TZID=Africa/Johannesburg:20290311T130000
DTSTAMP:20260422T051823
CREATED:20260105T055333Z
LAST-MODIFIED:20260206T052023Z
UID:10000093-1867921200-1867928400@gmbc.co.za
SUMMARY:Scale and Sail Open Day
DESCRIPTION:Please join us on the 2nd Sunday of the month for a variety of yachts\, boats\, ships and submarines on and under the water.
URL:https://gmbc.co.za/event/scale-and-sail-open-day/2029-03-11/
LOCATION:GMBC at Johannesburg Botanical Gardens\, Johannesburg Botanical Gardens\, Johannesburg\, South Africa
GEO:-26.151746038279;28.003153071932
X-APPLE-STRUCTURED-LOCATION;VALUE=URI;X-ADDRESS=GMBC at Johannesburg Botanical Gardens Johannesburg Botanical Gardens Johannesburg South Africa;X-APPLE-RADIUS=500;X-TITLE=Johannesburg Botanical Gardens:geo:28.003153071932,-26.151746038279
END:VEVENT
BEGIN:VEVENT
DTSTART;TZID=Africa/Johannesburg:20290325T110000
DTEND;TZID=Africa/Johannesburg:20290325T130000
DTSTAMP:20260422T051823
CREATED:20260206T045842Z
LAST-MODIFIED:20260206T052103Z
UID:10000153-1869130800-1869138000@gmbc.co.za
SUMMARY:Scale and Sail Open Day
DESCRIPTION:Please join us on the last Sunday of the month for a variety of yachts\, boats\, ships and submarines on and under the water.
URL:https://gmbc.co.za/event/scale-and-sail-open-day-2/2029-03-25/
END:VEVENT
BEGIN:VEVENT
DTSTART;TZID=Africa/Johannesburg:20290401T090000
DTEND;TZID=Africa/Johannesburg:20290401T130000
DTSTAMP:20260422T051823
CREATED:20260206T050031Z
LAST-MODIFIED:20260206T050031Z
UID:10000213-1869728400-1869742800@gmbc.co.za
SUMMARY:Social at Maggie's Farm - Home of the Chicken Pie
DESCRIPTION:Please come join us for a breakfast at 9 am\, followed by activities on the water from 10h30 to 13h00.
URL:https://gmbc.co.za/event/social-at-maggies-farm-home-of-the-chicken-pie/2029-04-01/
LOCATION:Maggies Farm\, The Restaurant at Maggie's Farm\, Lanseria\, Gauteng\, 1748\, South Africa
END:VEVENT
BEGIN:VEVENT
DTSTART;TZID=Africa/Johannesburg:20290408T110000
DTEND;TZID=Africa/Johannesburg:20290408T130000
DTSTAMP:20260422T051823
CREATED:20260105T055333Z
LAST-MODIFIED:20260206T052023Z
UID:10000094-1870340400-1870347600@gmbc.co.za
SUMMARY:Scale and Sail Open Day
DESCRIPTION:Please join us on the 2nd Sunday of the month for a variety of yachts\, boats\, ships and submarines on and under the water.
URL:https://gmbc.co.za/event/scale-and-sail-open-day/2029-04-08/
LOCATION:GMBC at Johannesburg Botanical Gardens\, Johannesburg Botanical Gardens\, Johannesburg\, South Africa
GEO:-26.151746038279;28.003153071932
X-APPLE-STRUCTURED-LOCATION;VALUE=URI;X-ADDRESS=GMBC at Johannesburg Botanical Gardens Johannesburg Botanical Gardens Johannesburg South Africa;X-APPLE-RADIUS=500;X-TITLE=Johannesburg Botanical Gardens:geo:28.003153071932,-26.151746038279
END:VEVENT
BEGIN:VEVENT
DTSTART;TZID=Africa/Johannesburg:20290422T110000
DTEND;TZID=Africa/Johannesburg:20290422T130000
DTSTAMP:20260422T051823
CREATED:20260206T045842Z
LAST-MODIFIED:20260206T052103Z
UID:10000154-1871550000-1871557200@gmbc.co.za
SUMMARY:Scale and Sail Open Day
DESCRIPTION:Please join us on the last Sunday of the month for a variety of yachts\, boats\, ships and submarines on and under the water.
URL:https://gmbc.co.za/event/scale-and-sail-open-day-2/2029-04-22/
END:VEVENT
BEGIN:VEVENT
DTSTART;TZID=Africa/Johannesburg:20290506T090000
DTEND;TZID=Africa/Johannesburg:20290506T130000
DTSTAMP:20260422T051823
CREATED:20260206T050031Z
LAST-MODIFIED:20260206T050031Z
UID:10000214-1872752400-1872766800@gmbc.co.za
SUMMARY:Social at Maggie's Farm - Home of the Chicken Pie
DESCRIPTION:Please come join us for a breakfast at 9 am\, followed by activities on the water from 10h30 to 13h00.
URL:https://gmbc.co.za/event/social-at-maggies-farm-home-of-the-chicken-pie/2029-05-06/
LOCATION:Maggies Farm\, The Restaurant at Maggie's Farm\, Lanseria\, Gauteng\, 1748\, South Africa
END:VEVENT
BEGIN:VEVENT
DTSTART;TZID=Africa/Johannesburg:20290513T110000
DTEND;TZID=Africa/Johannesburg:20290513T130000
DTSTAMP:20260422T051823
CREATED:20260105T055333Z
LAST-MODIFIED:20260206T052023Z
UID:10000095-1873364400-1873371600@gmbc.co.za
SUMMARY:Scale and Sail Open Day
DESCRIPTION:Please join us on the 2nd Sunday of the month for a variety of yachts\, boats\, ships and submarines on and under the water.
URL:https://gmbc.co.za/event/scale-and-sail-open-day/2029-05-13/
LOCATION:GMBC at Johannesburg Botanical Gardens\, Johannesburg Botanical Gardens\, Johannesburg\, South Africa
GEO:-26.151746038279;28.003153071932
X-APPLE-STRUCTURED-LOCATION;VALUE=URI;X-ADDRESS=GMBC at Johannesburg Botanical Gardens Johannesburg Botanical Gardens Johannesburg South Africa;X-APPLE-RADIUS=500;X-TITLE=Johannesburg Botanical Gardens:geo:28.003153071932,-26.151746038279
END:VEVENT
BEGIN:VEVENT
DTSTART;TZID=Africa/Johannesburg:20290527T110000
DTEND;TZID=Africa/Johannesburg:20290527T130000
DTSTAMP:20260422T051823
CREATED:20260206T045842Z
LAST-MODIFIED:20260206T052103Z
UID:10000155-1874574000-1874581200@gmbc.co.za
SUMMARY:Scale and Sail Open Day
DESCRIPTION:Please join us on the last Sunday of the month for a variety of yachts\, boats\, ships and submarines on and under the water.
URL:https://gmbc.co.za/event/scale-and-sail-open-day-2/2029-05-27/
END:VEVENT
BEGIN:VEVENT
DTSTART;TZID=Africa/Johannesburg:20290603T090000
DTEND;TZID=Africa/Johannesburg:20290603T130000
DTSTAMP:20260422T051823
CREATED:20260206T050031Z
LAST-MODIFIED:20260206T050031Z
UID:10000215-1875171600-1875186000@gmbc.co.za
SUMMARY:Social at Maggie's Farm - Home of the Chicken Pie
DESCRIPTION:Please come join us for a breakfast at 9 am\, followed by activities on the water from 10h30 to 13h00.
URL:https://gmbc.co.za/event/social-at-maggies-farm-home-of-the-chicken-pie/2029-06-03/
LOCATION:Maggies Farm\, The Restaurant at Maggie's Farm\, Lanseria\, Gauteng\, 1748\, South Africa
END:VEVENT
BEGIN:VEVENT
DTSTART;TZID=Africa/Johannesburg:20290610T110000
DTEND;TZID=Africa/Johannesburg:20290610T130000
DTSTAMP:20260422T051823
CREATED:20260105T055333Z
LAST-MODIFIED:20260206T052023Z
UID:10000096-1875783600-1875790800@gmbc.co.za
SUMMARY:Scale and Sail Open Day
DESCRIPTION:Please join us on the 2nd Sunday of the month for a variety of yachts\, boats\, ships and submarines on and under the water.
URL:https://gmbc.co.za/event/scale-and-sail-open-day/2029-06-10/
LOCATION:GMBC at Johannesburg Botanical Gardens\, Johannesburg Botanical Gardens\, Johannesburg\, South Africa
GEO:-26.151746038279;28.003153071932
X-APPLE-STRUCTURED-LOCATION;VALUE=URI;X-ADDRESS=GMBC at Johannesburg Botanical Gardens Johannesburg Botanical Gardens Johannesburg South Africa;X-APPLE-RADIUS=500;X-TITLE=Johannesburg Botanical Gardens:geo:28.003153071932,-26.151746038279
END:VEVENT
BEGIN:VEVENT
DTSTART;TZID=Africa/Johannesburg:20290624T110000
DTEND;TZID=Africa/Johannesburg:20290624T130000
DTSTAMP:20260422T051823
CREATED:20260206T045842Z
LAST-MODIFIED:20260206T052103Z
UID:10000156-1876993200-1877000400@gmbc.co.za
SUMMARY:Scale and Sail Open Day
DESCRIPTION:Please join us on the last Sunday of the month for a variety of yachts\, boats\, ships and submarines on and under the water.
URL:https://gmbc.co.za/event/scale-and-sail-open-day-2/2029-06-24/
END:VEVENT
BEGIN:VEVENT
DTSTART;TZID=Africa/Johannesburg:20290701T090000
DTEND;TZID=Africa/Johannesburg:20290701T130000
DTSTAMP:20260422T051823
CREATED:20260206T050031Z
LAST-MODIFIED:20260206T050031Z
UID:10000216-1877590800-1877605200@gmbc.co.za
SUMMARY:Social at Maggie's Farm - Home of the Chicken Pie
DESCRIPTION:Please come join us for a breakfast at 9 am\, followed by activities on the water from 10h30 to 13h00.
URL:https://gmbc.co.za/event/social-at-maggies-farm-home-of-the-chicken-pie/2029-07-01/
LOCATION:Maggies Farm\, The Restaurant at Maggie's Farm\, Lanseria\, Gauteng\, 1748\, South Africa
END:VEVENT
BEGIN:VEVENT
DTSTART;TZID=Africa/Johannesburg:20290708T110000
DTEND;TZID=Africa/Johannesburg:20290708T130000
DTSTAMP:20260422T051823
CREATED:20260105T055333Z
LAST-MODIFIED:20260206T052023Z
UID:10000097-1878202800-1878210000@gmbc.co.za
SUMMARY:Scale and Sail Open Day
DESCRIPTION:Please join us on the 2nd Sunday of the month for a variety of yachts\, boats\, ships and submarines on and under the water.
URL:https://gmbc.co.za/event/scale-and-sail-open-day/2029-07-08/
LOCATION:GMBC at Johannesburg Botanical Gardens\, Johannesburg Botanical Gardens\, Johannesburg\, South Africa
GEO:-26.151746038279;28.003153071932
X-APPLE-STRUCTURED-LOCATION;VALUE=URI;X-ADDRESS=GMBC at Johannesburg Botanical Gardens Johannesburg Botanical Gardens Johannesburg South Africa;X-APPLE-RADIUS=500;X-TITLE=Johannesburg Botanical Gardens:geo:28.003153071932,-26.151746038279
END:VEVENT
BEGIN:VEVENT
DTSTART;TZID=Africa/Johannesburg:20290722T110000
DTEND;TZID=Africa/Johannesburg:20290722T130000
DTSTAMP:20260422T051823
CREATED:20260206T045842Z
LAST-MODIFIED:20260206T052103Z
UID:10000157-1879412400-1879419600@gmbc.co.za
SUMMARY:Scale and Sail Open Day
DESCRIPTION:Please join us on the last Sunday of the month for a variety of yachts\, boats\, ships and submarines on and under the water.
URL:https://gmbc.co.za/event/scale-and-sail-open-day-2/2029-07-22/
END:VEVENT
BEGIN:VEVENT
DTSTART;TZID=Africa/Johannesburg:20290805T090000
DTEND;TZID=Africa/Johannesburg:20290805T130000
DTSTAMP:20260422T051823
CREATED:20260206T050031Z
LAST-MODIFIED:20260206T050031Z
UID:10000217-1880614800-1880629200@gmbc.co.za
SUMMARY:Social at Maggie's Farm - Home of the Chicken Pie
DESCRIPTION:Please come join us for a breakfast at 9 am\, followed by activities on the water from 10h30 to 13h00.
URL:https://gmbc.co.za/event/social-at-maggies-farm-home-of-the-chicken-pie/2029-08-05/
LOCATION:Maggies Farm\, The Restaurant at Maggie's Farm\, Lanseria\, Gauteng\, 1748\, South Africa
END:VEVENT
BEGIN:VEVENT
DTSTART;TZID=Africa/Johannesburg:20290812T110000
DTEND;TZID=Africa/Johannesburg:20290812T130000
DTSTAMP:20260422T051823
CREATED:20260105T055333Z
LAST-MODIFIED:20260206T052023Z
UID:10000098-1881226800-1881234000@gmbc.co.za
SUMMARY:Scale and Sail Open Day
DESCRIPTION:Please join us on the 2nd Sunday of the month for a variety of yachts\, boats\, ships and submarines on and under the water.
URL:https://gmbc.co.za/event/scale-and-sail-open-day/2029-08-12/
LOCATION:GMBC at Johannesburg Botanical Gardens\, Johannesburg Botanical Gardens\, Johannesburg\, South Africa
GEO:-26.151746038279;28.003153071932
X-APPLE-STRUCTURED-LOCATION;VALUE=URI;X-ADDRESS=GMBC at Johannesburg Botanical Gardens Johannesburg Botanical Gardens Johannesburg South Africa;X-APPLE-RADIUS=500;X-TITLE=Johannesburg Botanical Gardens:geo:28.003153071932,-26.151746038279
END:VEVENT
BEGIN:VEVENT
DTSTART;TZID=Africa/Johannesburg:20290826T110000
DTEND;TZID=Africa/Johannesburg:20290826T130000
DTSTAMP:20260422T051823
CREATED:20260206T045842Z
LAST-MODIFIED:20260206T052103Z
UID:10000158-1882436400-1882443600@gmbc.co.za
SUMMARY:Scale and Sail Open Day
DESCRIPTION:Please join us on the last Sunday of the month for a variety of yachts\, boats\, ships and submarines on and under the water.
URL:https://gmbc.co.za/event/scale-and-sail-open-day-2/2029-08-26/
END:VEVENT
BEGIN:VEVENT
DTSTART;TZID=Africa/Johannesburg:20290902T090000
DTEND;TZID=Africa/Johannesburg:20290902T130000
DTSTAMP:20260422T051823
CREATED:20260206T050031Z
LAST-MODIFIED:20260206T050031Z
UID:10000218-1883034000-1883048400@gmbc.co.za
SUMMARY:Social at Maggie's Farm - Home of the Chicken Pie
DESCRIPTION:Please come join us for a breakfast at 9 am\, followed by activities on the water from 10h30 to 13h00.
URL:https://gmbc.co.za/event/social-at-maggies-farm-home-of-the-chicken-pie/2029-09-02/
LOCATION:Maggies Farm\, The Restaurant at Maggie's Farm\, Lanseria\, Gauteng\, 1748\, South Africa
END:VEVENT
BEGIN:VEVENT
DTSTART;TZID=Africa/Johannesburg:20290909T110000
DTEND;TZID=Africa/Johannesburg:20290909T130000
DTSTAMP:20260422T051823
CREATED:20260105T055333Z
LAST-MODIFIED:20260206T052023Z
UID:10000099-1883646000-1883653200@gmbc.co.za
SUMMARY:Scale and Sail Open Day
DESCRIPTION:Please join us on the 2nd Sunday of the month for a variety of yachts\, boats\, ships and submarines on and under the water.
URL:https://gmbc.co.za/event/scale-and-sail-open-day/2029-09-09/
LOCATION:GMBC at Johannesburg Botanical Gardens\, Johannesburg Botanical Gardens\, Johannesburg\, South Africa
GEO:-26.151746038279;28.003153071932
X-APPLE-STRUCTURED-LOCATION;VALUE=URI;X-ADDRESS=GMBC at Johannesburg Botanical Gardens Johannesburg Botanical Gardens Johannesburg South Africa;X-APPLE-RADIUS=500;X-TITLE=Johannesburg Botanical Gardens:geo:28.003153071932,-26.151746038279
END:VEVENT
BEGIN:VEVENT
DTSTART;TZID=Africa/Johannesburg:20290923T110000
DTEND;TZID=Africa/Johannesburg:20290923T130000
DTSTAMP:20260422T051823
CREATED:20260206T045842Z
LAST-MODIFIED:20260206T052103Z
UID:10000159-1884855600-1884862800@gmbc.co.za
SUMMARY:Scale and Sail Open Day
DESCRIPTION:Please join us on the last Sunday of the month for a variety of yachts\, boats\, ships and submarines on and under the water.
URL:https://gmbc.co.za/event/scale-and-sail-open-day-2/2029-09-23/
END:VEVENT
BEGIN:VEVENT
DTSTART;TZID=Africa/Johannesburg:20291007T090000
DTEND;TZID=Africa/Johannesburg:20291007T130000
DTSTAMP:20260422T051823
CREATED:20260206T050031Z
LAST-MODIFIED:20260206T050031Z
UID:10000219-1886058000-1886072400@gmbc.co.za
SUMMARY:Social at Maggie's Farm - Home of the Chicken Pie
DESCRIPTION:Please come join us for a breakfast at 9 am\, followed by activities on the water from 10h30 to 13h00.
URL:https://gmbc.co.za/event/social-at-maggies-farm-home-of-the-chicken-pie/2029-10-07/
LOCATION:Maggies Farm\, The Restaurant at Maggie's Farm\, Lanseria\, Gauteng\, 1748\, South Africa
END:VEVENT
BEGIN:VEVENT
DTSTART;TZID=Africa/Johannesburg:20291014T110000
DTEND;TZID=Africa/Johannesburg:20291014T130000
DTSTAMP:20260422T051823
CREATED:20260105T055333Z
LAST-MODIFIED:20260206T052023Z
UID:10000100-1886670000-1886677200@gmbc.co.za
SUMMARY:Scale and Sail Open Day
DESCRIPTION:Please join us on the 2nd Sunday of the month for a variety of yachts\, boats\, ships and submarines on and under the water.
URL:https://gmbc.co.za/event/scale-and-sail-open-day/2029-10-14/
LOCATION:GMBC at Johannesburg Botanical Gardens\, Johannesburg Botanical Gardens\, Johannesburg\, South Africa
GEO:-26.151746038279;28.003153071932
X-APPLE-STRUCTURED-LOCATION;VALUE=URI;X-ADDRESS=GMBC at Johannesburg Botanical Gardens Johannesburg Botanical Gardens Johannesburg South Africa;X-APPLE-RADIUS=500;X-TITLE=Johannesburg Botanical Gardens:geo:28.003153071932,-26.151746038279
END:VEVENT
BEGIN:VEVENT
DTSTART;TZID=Africa/Johannesburg:20291028T110000
DTEND;TZID=Africa/Johannesburg:20291028T130000
DTSTAMP:20260422T051823
CREATED:20260206T045842Z
LAST-MODIFIED:20260206T052103Z
UID:10000160-1887879600-1887886800@gmbc.co.za
SUMMARY:Scale and Sail Open Day
DESCRIPTION:Please join us on the last Sunday of the month for a variety of yachts\, boats\, ships and submarines on and under the water.
URL:https://gmbc.co.za/event/scale-and-sail-open-day-2/2029-10-28/
END:VEVENT
BEGIN:VEVENT
DTSTART;TZID=Africa/Johannesburg:20291104T090000
DTEND;TZID=Africa/Johannesburg:20291104T130000
DTSTAMP:20260422T051823
CREATED:20260206T050031Z
LAST-MODIFIED:20260206T050031Z
UID:10000220-1888477200-1888491600@gmbc.co.za
SUMMARY:Social at Maggie's Farm - Home of the Chicken Pie
DESCRIPTION:Please come join us for a breakfast at 9 am\, followed by activities on the water from 10h30 to 13h00.
URL:https://gmbc.co.za/event/social-at-maggies-farm-home-of-the-chicken-pie/2029-11-04/
LOCATION:Maggies Farm\, The Restaurant at Maggie's Farm\, Lanseria\, Gauteng\, 1748\, South Africa
END:VEVENT
BEGIN:VEVENT
DTSTART;TZID=Africa/Johannesburg:20291111T110000
DTEND;TZID=Africa/Johannesburg:20291111T130000
DTSTAMP:20260422T051823
CREATED:20260105T055333Z
LAST-MODIFIED:20260206T052023Z
UID:10000101-1889089200-1889096400@gmbc.co.za
SUMMARY:Scale and Sail Open Day
DESCRIPTION:Please join us on the 2nd Sunday of the month for a variety of yachts\, boats\, ships and submarines on and under the water.
URL:https://gmbc.co.za/event/scale-and-sail-open-day/2029-11-11/
LOCATION:GMBC at Johannesburg Botanical Gardens\, Johannesburg Botanical Gardens\, Johannesburg\, South Africa
GEO:-26.151746038279;28.003153071932
X-APPLE-STRUCTURED-LOCATION;VALUE=URI;X-ADDRESS=GMBC at Johannesburg Botanical Gardens Johannesburg Botanical Gardens Johannesburg South Africa;X-APPLE-RADIUS=500;X-TITLE=Johannesburg Botanical Gardens:geo:28.003153071932,-26.151746038279
END:VEVENT
BEGIN:VEVENT
DTSTART;TZID=Africa/Johannesburg:20291125T110000
DTEND;TZID=Africa/Johannesburg:20291125T130000
DTSTAMP:20260422T051823
CREATED:20260206T045842Z
LAST-MODIFIED:20260206T052103Z
UID:10000161-1890298800-1890306000@gmbc.co.za
SUMMARY:Scale and Sail Open Day
DESCRIPTION:Please join us on the last Sunday of the month for a variety of yachts\, boats\, ships and submarines on and under the water.
URL:https://gmbc.co.za/event/scale-and-sail-open-day-2/2029-11-25/
END:VEVENT
END:VCALENDAR