BEGIN:VCALENDAR
VERSION:2.0
PRODID:-//GMBC - ECPv6.15.20//NONSGML v1.0//EN
CALSCALE:GREGORIAN
METHOD:PUBLISH
X-ORIGINAL-URL:https://gmbc.co.za
X-WR-CALDESC:Events for GMBC
REFRESH-INTERVAL;VALUE=DURATION:PT1H
X-Robots-Tag:noindex
X-PUBLISHED-TTL:PT1H
BEGIN:VTIMEZONE
TZID:Africa/Johannesburg
BEGIN:STANDARD
TZOFFSETFROM:+0200
TZOFFSETTO:+0200
TZNAME:SAST
DTSTART:20280101T000000
END:STANDARD
END:VTIMEZONE
BEGIN:VEVENT
DTSTART;TZID=Africa/Johannesburg:20291007T090000
DTEND;TZID=Africa/Johannesburg:20291007T130000
DTSTAMP:20260422T085405
CREATED:20260206T050031Z
LAST-MODIFIED:20260206T050031Z
UID:10000219-1886058000-1886072400@gmbc.co.za
SUMMARY:Social at Maggie's Farm - Home of the Chicken Pie
DESCRIPTION:Please come join us for a breakfast at 9 am\, followed by activities on the water from 10h30 to 13h00.
URL:https://gmbc.co.za/event/social-at-maggies-farm-home-of-the-chicken-pie/2029-10-07/
LOCATION:Maggies Farm\, The Restaurant at Maggie's Farm\, Lanseria\, Gauteng\, 1748\, South Africa
END:VEVENT
BEGIN:VEVENT
DTSTART;TZID=Africa/Johannesburg:20291014T110000
DTEND;TZID=Africa/Johannesburg:20291014T130000
DTSTAMP:20260422T085405
CREATED:20260105T055333Z
LAST-MODIFIED:20260206T052023Z
UID:10000100-1886670000-1886677200@gmbc.co.za
SUMMARY:Scale and Sail Open Day
DESCRIPTION:Please join us on the 2nd Sunday of the month for a variety of yachts\, boats\, ships and submarines on and under the water.
URL:https://gmbc.co.za/event/scale-and-sail-open-day/2029-10-14/
LOCATION:GMBC at Johannesburg Botanical Gardens\, Johannesburg Botanical Gardens\, Johannesburg\, South Africa
GEO:-26.151746038279;28.003153071932
X-APPLE-STRUCTURED-LOCATION;VALUE=URI;X-ADDRESS=GMBC at Johannesburg Botanical Gardens Johannesburg Botanical Gardens Johannesburg South Africa;X-APPLE-RADIUS=500;X-TITLE=Johannesburg Botanical Gardens:geo:28.003153071932,-26.151746038279
END:VEVENT
BEGIN:VEVENT
DTSTART;TZID=Africa/Johannesburg:20291028T110000
DTEND;TZID=Africa/Johannesburg:20291028T130000
DTSTAMP:20260422T085405
CREATED:20260206T045842Z
LAST-MODIFIED:20260206T052103Z
UID:10000160-1887879600-1887886800@gmbc.co.za
SUMMARY:Scale and Sail Open Day
DESCRIPTION:Please join us on the last Sunday of the month for a variety of yachts\, boats\, ships and submarines on and under the water.
URL:https://gmbc.co.za/event/scale-and-sail-open-day-2/2029-10-28/
END:VEVENT
BEGIN:VEVENT
DTSTART;TZID=Africa/Johannesburg:20291104T090000
DTEND;TZID=Africa/Johannesburg:20291104T130000
DTSTAMP:20260422T085405
CREATED:20260206T050031Z
LAST-MODIFIED:20260206T050031Z
UID:10000220-1888477200-1888491600@gmbc.co.za
SUMMARY:Social at Maggie's Farm - Home of the Chicken Pie
DESCRIPTION:Please come join us for a breakfast at 9 am\, followed by activities on the water from 10h30 to 13h00.
URL:https://gmbc.co.za/event/social-at-maggies-farm-home-of-the-chicken-pie/2029-11-04/
LOCATION:Maggies Farm\, The Restaurant at Maggie's Farm\, Lanseria\, Gauteng\, 1748\, South Africa
END:VEVENT
BEGIN:VEVENT
DTSTART;TZID=Africa/Johannesburg:20291111T110000
DTEND;TZID=Africa/Johannesburg:20291111T130000
DTSTAMP:20260422T085405
CREATED:20260105T055333Z
LAST-MODIFIED:20260206T052023Z
UID:10000101-1889089200-1889096400@gmbc.co.za
SUMMARY:Scale and Sail Open Day
DESCRIPTION:Please join us on the 2nd Sunday of the month for a variety of yachts\, boats\, ships and submarines on and under the water.
URL:https://gmbc.co.za/event/scale-and-sail-open-day/2029-11-11/
LOCATION:GMBC at Johannesburg Botanical Gardens\, Johannesburg Botanical Gardens\, Johannesburg\, South Africa
GEO:-26.151746038279;28.003153071932
X-APPLE-STRUCTURED-LOCATION;VALUE=URI;X-ADDRESS=GMBC at Johannesburg Botanical Gardens Johannesburg Botanical Gardens Johannesburg South Africa;X-APPLE-RADIUS=500;X-TITLE=Johannesburg Botanical Gardens:geo:28.003153071932,-26.151746038279
END:VEVENT
BEGIN:VEVENT
DTSTART;TZID=Africa/Johannesburg:20291125T110000
DTEND;TZID=Africa/Johannesburg:20291125T130000
DTSTAMP:20260422T085405
CREATED:20260206T045842Z
LAST-MODIFIED:20260206T052103Z
UID:10000161-1890298800-1890306000@gmbc.co.za
SUMMARY:Scale and Sail Open Day
DESCRIPTION:Please join us on the last Sunday of the month for a variety of yachts\, boats\, ships and submarines on and under the water.
URL:https://gmbc.co.za/event/scale-and-sail-open-day-2/2029-11-25/
END:VEVENT
BEGIN:VEVENT
DTSTART;TZID=Africa/Johannesburg:20291202T090000
DTEND;TZID=Africa/Johannesburg:20291202T130000
DTSTAMP:20260422T085405
CREATED:20260206T050031Z
LAST-MODIFIED:20260206T050031Z
UID:10000221-1890896400-1890910800@gmbc.co.za
SUMMARY:Social at Maggie's Farm - Home of the Chicken Pie
DESCRIPTION:Please come join us for a breakfast at 9 am\, followed by activities on the water from 10h30 to 13h00.
URL:https://gmbc.co.za/event/social-at-maggies-farm-home-of-the-chicken-pie/2029-12-02/
LOCATION:Maggies Farm\, The Restaurant at Maggie's Farm\, Lanseria\, Gauteng\, 1748\, South Africa
END:VEVENT
BEGIN:VEVENT
DTSTART;TZID=Africa/Johannesburg:20291209T110000
DTEND;TZID=Africa/Johannesburg:20291209T130000
DTSTAMP:20260422T085405
CREATED:20260105T055333Z
LAST-MODIFIED:20260206T052023Z
UID:10000102-1891508400-1891515600@gmbc.co.za
SUMMARY:Scale and Sail Open Day
DESCRIPTION:Please join us on the 2nd Sunday of the month for a variety of yachts\, boats\, ships and submarines on and under the water.
URL:https://gmbc.co.za/event/scale-and-sail-open-day/2029-12-09/
LOCATION:GMBC at Johannesburg Botanical Gardens\, Johannesburg Botanical Gardens\, Johannesburg\, South Africa
GEO:-26.151746038279;28.003153071932
X-APPLE-STRUCTURED-LOCATION;VALUE=URI;X-ADDRESS=GMBC at Johannesburg Botanical Gardens Johannesburg Botanical Gardens Johannesburg South Africa;X-APPLE-RADIUS=500;X-TITLE=Johannesburg Botanical Gardens:geo:28.003153071932,-26.151746038279
END:VEVENT
BEGIN:VEVENT
DTSTART;TZID=Africa/Johannesburg:20291223T110000
DTEND;TZID=Africa/Johannesburg:20291223T130000
DTSTAMP:20260422T085405
CREATED:20260206T045842Z
LAST-MODIFIED:20260206T052103Z
UID:10000162-1892718000-1892725200@gmbc.co.za
SUMMARY:Scale and Sail Open Day
DESCRIPTION:Please join us on the last Sunday of the month for a variety of yachts\, boats\, ships and submarines on and under the water.
URL:https://gmbc.co.za/event/scale-and-sail-open-day-2/2029-12-23/
END:VEVENT
BEGIN:VEVENT
DTSTART;TZID=Africa/Johannesburg:20300106T090000
DTEND;TZID=Africa/Johannesburg:20300106T130000
DTSTAMP:20260422T085405
CREATED:20260206T050031Z
LAST-MODIFIED:20260206T050031Z
UID:10000222-1893920400-1893934800@gmbc.co.za
SUMMARY:Social at Maggie's Farm - Home of the Chicken Pie
DESCRIPTION:Please come join us for a breakfast at 9 am\, followed by activities on the water from 10h30 to 13h00.
URL:https://gmbc.co.za/event/social-at-maggies-farm-home-of-the-chicken-pie/2030-01-06/
LOCATION:Maggies Farm\, The Restaurant at Maggie's Farm\, Lanseria\, Gauteng\, 1748\, South Africa
END:VEVENT
BEGIN:VEVENT
DTSTART;TZID=Africa/Johannesburg:20300113T110000
DTEND;TZID=Africa/Johannesburg:20300113T130000
DTSTAMP:20260422T085405
CREATED:20260105T055333Z
LAST-MODIFIED:20260206T052023Z
UID:10000103-1894532400-1894539600@gmbc.co.za
SUMMARY:Scale and Sail Open Day
DESCRIPTION:Please join us on the 2nd Sunday of the month for a variety of yachts\, boats\, ships and submarines on and under the water.
URL:https://gmbc.co.za/event/scale-and-sail-open-day/2030-01-13/
LOCATION:GMBC at Johannesburg Botanical Gardens\, Johannesburg Botanical Gardens\, Johannesburg\, South Africa
GEO:-26.151746038279;28.003153071932
X-APPLE-STRUCTURED-LOCATION;VALUE=URI;X-ADDRESS=GMBC at Johannesburg Botanical Gardens Johannesburg Botanical Gardens Johannesburg South Africa;X-APPLE-RADIUS=500;X-TITLE=Johannesburg Botanical Gardens:geo:28.003153071932,-26.151746038279
END:VEVENT
BEGIN:VEVENT
DTSTART;TZID=Africa/Johannesburg:20300127T110000
DTEND;TZID=Africa/Johannesburg:20300127T130000
DTSTAMP:20260422T085405
CREATED:20260206T045842Z
LAST-MODIFIED:20260206T052103Z
UID:10000163-1895742000-1895749200@gmbc.co.za
SUMMARY:Scale and Sail Open Day
DESCRIPTION:Please join us on the last Sunday of the month for a variety of yachts\, boats\, ships and submarines on and under the water.
URL:https://gmbc.co.za/event/scale-and-sail-open-day-2/2030-01-27/
END:VEVENT
BEGIN:VEVENT
DTSTART;TZID=Africa/Johannesburg:20300203T090000
DTEND;TZID=Africa/Johannesburg:20300203T130000
DTSTAMP:20260422T085405
CREATED:20260206T050031Z
LAST-MODIFIED:20260206T050031Z
UID:10000223-1896339600-1896354000@gmbc.co.za
SUMMARY:Social at Maggie's Farm - Home of the Chicken Pie
DESCRIPTION:Please come join us for a breakfast at 9 am\, followed by activities on the water from 10h30 to 13h00.
URL:https://gmbc.co.za/event/social-at-maggies-farm-home-of-the-chicken-pie/2030-02-03/
LOCATION:Maggies Farm\, The Restaurant at Maggie's Farm\, Lanseria\, Gauteng\, 1748\, South Africa
END:VEVENT
BEGIN:VEVENT
DTSTART;TZID=Africa/Johannesburg:20300210T110000
DTEND;TZID=Africa/Johannesburg:20300210T130000
DTSTAMP:20260422T085405
CREATED:20260105T055333Z
LAST-MODIFIED:20260206T052023Z
UID:10000104-1896951600-1896958800@gmbc.co.za
SUMMARY:Scale and Sail Open Day
DESCRIPTION:Please join us on the 2nd Sunday of the month for a variety of yachts\, boats\, ships and submarines on and under the water.
URL:https://gmbc.co.za/event/scale-and-sail-open-day/2030-02-10/
LOCATION:GMBC at Johannesburg Botanical Gardens\, Johannesburg Botanical Gardens\, Johannesburg\, South Africa
GEO:-26.151746038279;28.003153071932
X-APPLE-STRUCTURED-LOCATION;VALUE=URI;X-ADDRESS=GMBC at Johannesburg Botanical Gardens Johannesburg Botanical Gardens Johannesburg South Africa;X-APPLE-RADIUS=500;X-TITLE=Johannesburg Botanical Gardens:geo:28.003153071932,-26.151746038279
END:VEVENT
BEGIN:VEVENT
DTSTART;TZID=Africa/Johannesburg:20300224T110000
DTEND;TZID=Africa/Johannesburg:20300224T130000
DTSTAMP:20260422T085405
CREATED:20260206T045842Z
LAST-MODIFIED:20260206T052103Z
UID:10000164-1898161200-1898168400@gmbc.co.za
SUMMARY:Scale and Sail Open Day
DESCRIPTION:Please join us on the last Sunday of the month for a variety of yachts\, boats\, ships and submarines on and under the water.
URL:https://gmbc.co.za/event/scale-and-sail-open-day-2/2030-02-24/
END:VEVENT
BEGIN:VEVENT
DTSTART;TZID=Africa/Johannesburg:20300303T090000
DTEND;TZID=Africa/Johannesburg:20300303T130000
DTSTAMP:20260422T085405
CREATED:20260206T050031Z
LAST-MODIFIED:20260206T050031Z
UID:10000224-1898758800-1898773200@gmbc.co.za
SUMMARY:Social at Maggie's Farm - Home of the Chicken Pie
DESCRIPTION:Please come join us for a breakfast at 9 am\, followed by activities on the water from 10h30 to 13h00.
URL:https://gmbc.co.za/event/social-at-maggies-farm-home-of-the-chicken-pie/2030-03-03/
LOCATION:Maggies Farm\, The Restaurant at Maggie's Farm\, Lanseria\, Gauteng\, 1748\, South Africa
END:VEVENT
BEGIN:VEVENT
DTSTART;TZID=Africa/Johannesburg:20300310T110000
DTEND;TZID=Africa/Johannesburg:20300310T130000
DTSTAMP:20260422T085405
CREATED:20260105T055333Z
LAST-MODIFIED:20260206T052023Z
UID:10000105-1899370800-1899378000@gmbc.co.za
SUMMARY:Scale and Sail Open Day
DESCRIPTION:Please join us on the 2nd Sunday of the month for a variety of yachts\, boats\, ships and submarines on and under the water.
URL:https://gmbc.co.za/event/scale-and-sail-open-day/2030-03-10/
LOCATION:GMBC at Johannesburg Botanical Gardens\, Johannesburg Botanical Gardens\, Johannesburg\, South Africa
GEO:-26.151746038279;28.003153071932
X-APPLE-STRUCTURED-LOCATION;VALUE=URI;X-ADDRESS=GMBC at Johannesburg Botanical Gardens Johannesburg Botanical Gardens Johannesburg South Africa;X-APPLE-RADIUS=500;X-TITLE=Johannesburg Botanical Gardens:geo:28.003153071932,-26.151746038279
END:VEVENT
BEGIN:VEVENT
DTSTART;TZID=Africa/Johannesburg:20300324T110000
DTEND;TZID=Africa/Johannesburg:20300324T130000
DTSTAMP:20260422T085405
CREATED:20260206T045842Z
LAST-MODIFIED:20260206T052103Z
UID:10000165-1900580400-1900587600@gmbc.co.za
SUMMARY:Scale and Sail Open Day
DESCRIPTION:Please join us on the last Sunday of the month for a variety of yachts\, boats\, ships and submarines on and under the water.
URL:https://gmbc.co.za/event/scale-and-sail-open-day-2/2030-03-24/
END:VEVENT
BEGIN:VEVENT
DTSTART;TZID=Africa/Johannesburg:20300407T090000
DTEND;TZID=Africa/Johannesburg:20300407T130000
DTSTAMP:20260422T085405
CREATED:20260206T050031Z
LAST-MODIFIED:20260206T050031Z
UID:10000225-1901782800-1901797200@gmbc.co.za
SUMMARY:Social at Maggie's Farm - Home of the Chicken Pie
DESCRIPTION:Please come join us for a breakfast at 9 am\, followed by activities on the water from 10h30 to 13h00.
URL:https://gmbc.co.za/event/social-at-maggies-farm-home-of-the-chicken-pie/2030-04-07/
LOCATION:Maggies Farm\, The Restaurant at Maggie's Farm\, Lanseria\, Gauteng\, 1748\, South Africa
END:VEVENT
BEGIN:VEVENT
DTSTART;TZID=Africa/Johannesburg:20300414T110000
DTEND;TZID=Africa/Johannesburg:20300414T130000
DTSTAMP:20260422T085405
CREATED:20260105T055333Z
LAST-MODIFIED:20260206T052023Z
UID:10000106-1902394800-1902402000@gmbc.co.za
SUMMARY:Scale and Sail Open Day
DESCRIPTION:Please join us on the 2nd Sunday of the month for a variety of yachts\, boats\, ships and submarines on and under the water.
URL:https://gmbc.co.za/event/scale-and-sail-open-day/2030-04-14/
LOCATION:GMBC at Johannesburg Botanical Gardens\, Johannesburg Botanical Gardens\, Johannesburg\, South Africa
GEO:-26.151746038279;28.003153071932
X-APPLE-STRUCTURED-LOCATION;VALUE=URI;X-ADDRESS=GMBC at Johannesburg Botanical Gardens Johannesburg Botanical Gardens Johannesburg South Africa;X-APPLE-RADIUS=500;X-TITLE=Johannesburg Botanical Gardens:geo:28.003153071932,-26.151746038279
END:VEVENT
BEGIN:VEVENT
DTSTART;TZID=Africa/Johannesburg:20300428T110000
DTEND;TZID=Africa/Johannesburg:20300428T130000
DTSTAMP:20260422T085405
CREATED:20260206T045842Z
LAST-MODIFIED:20260206T052103Z
UID:10000166-1903604400-1903611600@gmbc.co.za
SUMMARY:Scale and Sail Open Day
DESCRIPTION:Please join us on the last Sunday of the month for a variety of yachts\, boats\, ships and submarines on and under the water.
URL:https://gmbc.co.za/event/scale-and-sail-open-day-2/2030-04-28/
END:VEVENT
BEGIN:VEVENT
DTSTART;TZID=Africa/Johannesburg:20300505T090000
DTEND;TZID=Africa/Johannesburg:20300505T130000
DTSTAMP:20260422T085405
CREATED:20260206T050031Z
LAST-MODIFIED:20260206T050031Z
UID:10000226-1904202000-1904216400@gmbc.co.za
SUMMARY:Social at Maggie's Farm - Home of the Chicken Pie
DESCRIPTION:Please come join us for a breakfast at 9 am\, followed by activities on the water from 10h30 to 13h00.
URL:https://gmbc.co.za/event/social-at-maggies-farm-home-of-the-chicken-pie/2030-05-05/
LOCATION:Maggies Farm\, The Restaurant at Maggie's Farm\, Lanseria\, Gauteng\, 1748\, South Africa
END:VEVENT
BEGIN:VEVENT
DTSTART;TZID=Africa/Johannesburg:20300512T110000
DTEND;TZID=Africa/Johannesburg:20300512T130000
DTSTAMP:20260422T085405
CREATED:20260105T055333Z
LAST-MODIFIED:20260206T052023Z
UID:10000107-1904814000-1904821200@gmbc.co.za
SUMMARY:Scale and Sail Open Day
DESCRIPTION:Please join us on the 2nd Sunday of the month for a variety of yachts\, boats\, ships and submarines on and under the water.
URL:https://gmbc.co.za/event/scale-and-sail-open-day/2030-05-12/
LOCATION:GMBC at Johannesburg Botanical Gardens\, Johannesburg Botanical Gardens\, Johannesburg\, South Africa
GEO:-26.151746038279;28.003153071932
X-APPLE-STRUCTURED-LOCATION;VALUE=URI;X-ADDRESS=GMBC at Johannesburg Botanical Gardens Johannesburg Botanical Gardens Johannesburg South Africa;X-APPLE-RADIUS=500;X-TITLE=Johannesburg Botanical Gardens:geo:28.003153071932,-26.151746038279
END:VEVENT
BEGIN:VEVENT
DTSTART;TZID=Africa/Johannesburg:20300526T110000
DTEND;TZID=Africa/Johannesburg:20300526T130000
DTSTAMP:20260422T085405
CREATED:20260206T045842Z
LAST-MODIFIED:20260206T052103Z
UID:10000167-1906023600-1906030800@gmbc.co.za
SUMMARY:Scale and Sail Open Day
DESCRIPTION:Please join us on the last Sunday of the month for a variety of yachts\, boats\, ships and submarines on and under the water.
URL:https://gmbc.co.za/event/scale-and-sail-open-day-2/2030-05-26/
END:VEVENT
BEGIN:VEVENT
DTSTART;TZID=Africa/Johannesburg:20300602T090000
DTEND;TZID=Africa/Johannesburg:20300602T130000
DTSTAMP:20260422T085405
CREATED:20260206T050031Z
LAST-MODIFIED:20260206T050031Z
UID:10000227-1906621200-1906635600@gmbc.co.za
SUMMARY:Social at Maggie's Farm - Home of the Chicken Pie
DESCRIPTION:Please come join us for a breakfast at 9 am\, followed by activities on the water from 10h30 to 13h00.
URL:https://gmbc.co.za/event/social-at-maggies-farm-home-of-the-chicken-pie/2030-06-02/
LOCATION:Maggies Farm\, The Restaurant at Maggie's Farm\, Lanseria\, Gauteng\, 1748\, South Africa
END:VEVENT
BEGIN:VEVENT
DTSTART;TZID=Africa/Johannesburg:20300609T110000
DTEND;TZID=Africa/Johannesburg:20300609T130000
DTSTAMP:20260422T085405
CREATED:20260105T055333Z
LAST-MODIFIED:20260206T052023Z
UID:10000108-1907233200-1907240400@gmbc.co.za
SUMMARY:Scale and Sail Open Day
DESCRIPTION:Please join us on the 2nd Sunday of the month for a variety of yachts\, boats\, ships and submarines on and under the water.
URL:https://gmbc.co.za/event/scale-and-sail-open-day/2030-06-09/
LOCATION:GMBC at Johannesburg Botanical Gardens\, Johannesburg Botanical Gardens\, Johannesburg\, South Africa
GEO:-26.151746038279;28.003153071932
X-APPLE-STRUCTURED-LOCATION;VALUE=URI;X-ADDRESS=GMBC at Johannesburg Botanical Gardens Johannesburg Botanical Gardens Johannesburg South Africa;X-APPLE-RADIUS=500;X-TITLE=Johannesburg Botanical Gardens:geo:28.003153071932,-26.151746038279
END:VEVENT
BEGIN:VEVENT
DTSTART;TZID=Africa/Johannesburg:20300623T110000
DTEND;TZID=Africa/Johannesburg:20300623T130000
DTSTAMP:20260422T085405
CREATED:20260206T045842Z
LAST-MODIFIED:20260206T052103Z
UID:10000168-1908442800-1908450000@gmbc.co.za
SUMMARY:Scale and Sail Open Day
DESCRIPTION:Please join us on the last Sunday of the month for a variety of yachts\, boats\, ships and submarines on and under the water.
URL:https://gmbc.co.za/event/scale-and-sail-open-day-2/2030-06-23/
END:VEVENT
BEGIN:VEVENT
DTSTART;TZID=Africa/Johannesburg:20300707T090000
DTEND;TZID=Africa/Johannesburg:20300707T130000
DTSTAMP:20260422T085405
CREATED:20260206T050031Z
LAST-MODIFIED:20260206T050031Z
UID:10000228-1909645200-1909659600@gmbc.co.za
SUMMARY:Social at Maggie's Farm - Home of the Chicken Pie
DESCRIPTION:Please come join us for a breakfast at 9 am\, followed by activities on the water from 10h30 to 13h00.
URL:https://gmbc.co.za/event/social-at-maggies-farm-home-of-the-chicken-pie/2030-07-07/
LOCATION:Maggies Farm\, The Restaurant at Maggie's Farm\, Lanseria\, Gauteng\, 1748\, South Africa
END:VEVENT
BEGIN:VEVENT
DTSTART;TZID=Africa/Johannesburg:20300714T110000
DTEND;TZID=Africa/Johannesburg:20300714T130000
DTSTAMP:20260422T085405
CREATED:20260105T055333Z
LAST-MODIFIED:20260206T052023Z
UID:10000109-1910257200-1910264400@gmbc.co.za
SUMMARY:Scale and Sail Open Day
DESCRIPTION:Please join us on the 2nd Sunday of the month for a variety of yachts\, boats\, ships and submarines on and under the water.
URL:https://gmbc.co.za/event/scale-and-sail-open-day/2030-07-14/
LOCATION:GMBC at Johannesburg Botanical Gardens\, Johannesburg Botanical Gardens\, Johannesburg\, South Africa
GEO:-26.151746038279;28.003153071932
X-APPLE-STRUCTURED-LOCATION;VALUE=URI;X-ADDRESS=GMBC at Johannesburg Botanical Gardens Johannesburg Botanical Gardens Johannesburg South Africa;X-APPLE-RADIUS=500;X-TITLE=Johannesburg Botanical Gardens:geo:28.003153071932,-26.151746038279
END:VEVENT
BEGIN:VEVENT
DTSTART;TZID=Africa/Johannesburg:20300728T110000
DTEND;TZID=Africa/Johannesburg:20300728T130000
DTSTAMP:20260422T085405
CREATED:20260206T045842Z
LAST-MODIFIED:20260206T052103Z
UID:10000169-1911466800-1911474000@gmbc.co.za
SUMMARY:Scale and Sail Open Day
DESCRIPTION:Please join us on the last Sunday of the month for a variety of yachts\, boats\, ships and submarines on and under the water.
URL:https://gmbc.co.za/event/scale-and-sail-open-day-2/2030-07-28/
END:VEVENT
END:VCALENDAR