BEGIN:VCALENDAR
VERSION:2.0
PRODID:-//GMBC - ECPv6.15.20//NONSGML v1.0//EN
CALSCALE:GREGORIAN
METHOD:PUBLISH
X-ORIGINAL-URL:https://gmbc.co.za
X-WR-CALDESC:Events for GMBC
REFRESH-INTERVAL;VALUE=DURATION:PT1H
X-Robots-Tag:noindex
X-PUBLISHED-TTL:PT1H
BEGIN:VTIMEZONE
TZID:Africa/Johannesburg
BEGIN:STANDARD
TZOFFSETFROM:+0200
TZOFFSETTO:+0200
TZNAME:SAST
DTSTART:20240101T000000
END:STANDARD
END:VTIMEZONE
BEGIN:VEVENT
DTSTART;TZID=Africa/Johannesburg:20260208T110000
DTEND;TZID=Africa/Johannesburg:20260208T130000
DTSTAMP:20260420T102641
CREATED:20260105T055333Z
LAST-MODIFIED:20260206T052023Z
UID:10000056-1770548400-1770555600@gmbc.co.za
SUMMARY:Scale and Sail Open Day
DESCRIPTION:Please join us on the 2nd Sunday of the month for a variety of yachts\, boats\, ships and submarines on and under the water.
URL:https://gmbc.co.za/event/scale-and-sail-open-day/2026-02-08/
LOCATION:GMBC at Johannesburg Botanical Gardens\, Johannesburg Botanical Gardens\, Johannesburg\, South Africa
GEO:-26.151746038279;28.003153071932
X-APPLE-STRUCTURED-LOCATION;VALUE=URI;X-ADDRESS=GMBC at Johannesburg Botanical Gardens Johannesburg Botanical Gardens Johannesburg South Africa;X-APPLE-RADIUS=500;X-TITLE=Johannesburg Botanical Gardens:geo:28.003153071932,-26.151746038279
END:VEVENT
BEGIN:VEVENT
DTSTART;TZID=Africa/Johannesburg:20251207T100000
DTEND;TZID=Africa/Johannesburg:20251207T100000
DTSTAMP:20260420T102641
CREATED:20251116T123952Z
LAST-MODIFIED:20251116T124108Z
UID:10000005-1765101600-1765101600@gmbc.co.za
SUMMARY:Bruce Tandy Memorial Regatta
DESCRIPTION:Here is an overview….
URL:https://gmbc.co.za/event/bruce-tandy-memorial-regatta/
LOCATION:GMBC at Johannesburg Botanical Gardens\, Johannesburg Botanical Gardens\, Johannesburg\, South Africa
GEO:-26.151746038279;28.003153071932
X-APPLE-STRUCTURED-LOCATION;VALUE=URI;X-ADDRESS=GMBC at Johannesburg Botanical Gardens Johannesburg Botanical Gardens Johannesburg South Africa;X-APPLE-RADIUS=500;X-TITLE=Johannesburg Botanical Gardens:geo:28.003153071932,-26.151746038279
END:VEVENT
BEGIN:VEVENT
DTSTART;TZID=Africa/Johannesburg:20251123T083000
DTEND;TZID=Africa/Johannesburg:20251123T123000
DTSTAMP:20260420T102641
CREATED:20251105T075715Z
LAST-MODIFIED:20251111T084824Z
UID:10000003-1763886600-1763901000@gmbc.co.za
SUMMARY:Social breakfast
DESCRIPTION:
URL:https://gmbc.co.za/event/social-breakfast-at-the-fat-olive/
LOCATION:Maggies Farm\, The Restaurant at Maggie's Farm\, Lanseria\, Gauteng\, 1748\, South Africa
END:VEVENT
BEGIN:VEVENT
DTSTART;TZID=Africa/Johannesburg:20251116T093000
DTEND;TZID=Africa/Johannesburg:20251116T153000
DTSTAMP:20260420T102641
CREATED:20251105T075534Z
LAST-MODIFIED:20251105T075534Z
UID:10000002-1763285400-1763307000@gmbc.co.za
SUMMARY:GMBC SeaWind Sailing Championships - Round 10 at Emmarentia Dam.
DESCRIPTION:
URL:https://gmbc.co.za/event/gmbc-seawind-sailing-championships-round-10-at-emmarentia-dam/
LOCATION:GMBC at Johannesburg Botanical Gardens\, Johannesburg Botanical Gardens\, Johannesburg\, South Africa
GEO:-26.151746038279;28.003153071932
X-APPLE-STRUCTURED-LOCATION;VALUE=URI;X-ADDRESS=GMBC at Johannesburg Botanical Gardens Johannesburg Botanical Gardens Johannesburg South Africa;X-APPLE-RADIUS=500;X-TITLE=Johannesburg Botanical Gardens:geo:28.003153071932,-26.151746038279
END:VEVENT
END:VCALENDAR