BEGIN:VCALENDAR
VERSION:2.0
PRODID:-//GMBC - ECPv6.15.20//NONSGML v1.0//EN
CALSCALE:GREGORIAN
METHOD:PUBLISH
X-ORIGINAL-URL:https://gmbc.co.za
X-WR-CALDESC:Events for GMBC
REFRESH-INTERVAL;VALUE=DURATION:PT1H
X-Robots-Tag:noindex
X-PUBLISHED-TTL:PT1H
BEGIN:VTIMEZONE
TZID:Africa/Johannesburg
BEGIN:STANDARD
TZOFFSETFROM:+0200
TZOFFSETTO:+0200
TZNAME:SAST
DTSTART:20250101T000000
END:STANDARD
END:VTIMEZONE
BEGIN:VEVENT
DTSTART;TZID=Africa/Johannesburg:20260628T110000
DTEND;TZID=Africa/Johannesburg:20260628T130000
DTSTAMP:20260421T115342
CREATED:20260206T045842Z
LAST-MODIFIED:20260206T052103Z
UID:10000120-1782644400-1782651600@gmbc.co.za
SUMMARY:Scale and Sail Open Day
DESCRIPTION:Please join us on the last Sunday of the month for a variety of yachts\, boats\, ships and submarines on and under the water.
URL:https://gmbc.co.za/event/scale-and-sail-open-day-2/2026-06-28/
LOCATION:Gauteng
END:VEVENT
BEGIN:VEVENT
DTSTART;TZID=Africa/Johannesburg:20260705T090000
DTEND;TZID=Africa/Johannesburg:20260705T130000
DTSTAMP:20260421T115342
CREATED:20260206T050031Z
LAST-MODIFIED:20260206T050031Z
UID:10000180-1783242000-1783256400@gmbc.co.za
SUMMARY:Social at Maggie's Farm - Home of the Chicken Pie
DESCRIPTION:Please come join us for a breakfast at 9 am\, followed by activities on the water from 10h30 to 13h00.
URL:https://gmbc.co.za/event/social-at-maggies-farm-home-of-the-chicken-pie/2026-07-05/
LOCATION:Maggies Farm\, The Restaurant at Maggie's Farm\, Lanseria\, Gauteng\, 1748\, South Africa
END:VEVENT
BEGIN:VEVENT
DTSTART;TZID=Africa/Johannesburg:20260705T100000
DTEND;TZID=Africa/Johannesburg:20260705T150000
DTSTAMP:20260421T115342
CREATED:20260203T063625Z
LAST-MODIFIED:20260203T063625Z
UID:10000033-1783245600-1783263600@gmbc.co.za
SUMMARY:GMBC IOM Regatta 2026
DESCRIPTION:Please join us from 10 am for Tune-up Races
URL:https://gmbc.co.za/event/gmbc-iom-regatta-2026/2026-07-05/
LOCATION:GMBC at Johannesburg Botanical Gardens\, Johannesburg Botanical Gardens\, Johannesburg\, South Africa
GEO:-26.151746038279;28.003153071932
X-APPLE-STRUCTURED-LOCATION;VALUE=URI;X-ADDRESS=GMBC at Johannesburg Botanical Gardens Johannesburg Botanical Gardens Johannesburg South Africa;X-APPLE-RADIUS=500;X-TITLE=Johannesburg Botanical Gardens:geo:28.003153071932,-26.151746038279
END:VEVENT
BEGIN:VEVENT
DTSTART;TZID=Africa/Johannesburg:20260712T110000
DTEND;TZID=Africa/Johannesburg:20260712T130000
DTSTAMP:20260421T115342
CREATED:20260105T055333Z
LAST-MODIFIED:20260206T052023Z
UID:10000061-1783854000-1783861200@gmbc.co.za
SUMMARY:Scale and Sail Open Day
DESCRIPTION:Please join us on the 2nd Sunday of the month for a variety of yachts\, boats\, ships and submarines on and under the water.
URL:https://gmbc.co.za/event/scale-and-sail-open-day/2026-07-12/
LOCATION:GMBC at Johannesburg Botanical Gardens\, Johannesburg Botanical Gardens\, Johannesburg\, South Africa
GEO:-26.151746038279;28.003153071932
X-APPLE-STRUCTURED-LOCATION;VALUE=URI;X-ADDRESS=GMBC at Johannesburg Botanical Gardens Johannesburg Botanical Gardens Johannesburg South Africa;X-APPLE-RADIUS=500;X-TITLE=Johannesburg Botanical Gardens:geo:28.003153071932,-26.151746038279
END:VEVENT
BEGIN:VEVENT
DTSTART;TZID=Africa/Johannesburg:20260719T100000
DTEND;TZID=Africa/Johannesburg:20260719T150000
DTSTAMP:20260421T115342
CREATED:20260203T063429Z
LAST-MODIFIED:20260203T063429Z
UID:10000012-1784455200-1784473200@gmbc.co.za
SUMMARY:GMBC Seawind Regatta 2026
DESCRIPTION:Please join us from 10 am for Tune-up Races.
URL:https://gmbc.co.za/event/gmbc-seawind-regatta-2026/2026-07-19/
LOCATION:GMBC at Johannesburg Botanical Gardens\, Johannesburg Botanical Gardens\, Johannesburg\, South Africa
GEO:-26.151746038279;28.003153071932
X-APPLE-STRUCTURED-LOCATION;VALUE=URI;X-ADDRESS=GMBC at Johannesburg Botanical Gardens Johannesburg Botanical Gardens Johannesburg South Africa;X-APPLE-RADIUS=500;X-TITLE=Johannesburg Botanical Gardens:geo:28.003153071932,-26.151746038279
END:VEVENT
BEGIN:VEVENT
DTSTART;TZID=Africa/Johannesburg:20260726T110000
DTEND;TZID=Africa/Johannesburg:20260726T130000
DTSTAMP:20260421T115342
CREATED:20260206T045842Z
LAST-MODIFIED:20260206T052103Z
UID:10000121-1785063600-1785070800@gmbc.co.za
SUMMARY:Scale and Sail Open Day
DESCRIPTION:Please join us on the last Sunday of the month for a variety of yachts\, boats\, ships and submarines on and under the water.
URL:https://gmbc.co.za/event/scale-and-sail-open-day-2/2026-07-26/
LOCATION:Gauteng
END:VEVENT
BEGIN:VEVENT
DTSTART;TZID=Africa/Johannesburg:20260802T090000
DTEND;TZID=Africa/Johannesburg:20260802T130000
DTSTAMP:20260421T115342
CREATED:20260206T050031Z
LAST-MODIFIED:20260206T050031Z
UID:10000181-1785661200-1785675600@gmbc.co.za
SUMMARY:Social at Maggie's Farm - Home of the Chicken Pie
DESCRIPTION:Please come join us for a breakfast at 9 am\, followed by activities on the water from 10h30 to 13h00.
URL:https://gmbc.co.za/event/social-at-maggies-farm-home-of-the-chicken-pie/2026-08-02/
LOCATION:Maggies Farm\, The Restaurant at Maggie's Farm\, Lanseria\, Gauteng\, 1748\, South Africa
END:VEVENT
BEGIN:VEVENT
DTSTART;TZID=Africa/Johannesburg:20260802T100000
DTEND;TZID=Africa/Johannesburg:20260802T150000
DTSTAMP:20260421T115342
CREATED:20260203T063625Z
LAST-MODIFIED:20260203T063625Z
UID:10000034-1785664800-1785682800@gmbc.co.za
SUMMARY:GMBC IOM Regatta 2026
DESCRIPTION:Please join us from 10 am for Tune-up Races
URL:https://gmbc.co.za/event/gmbc-iom-regatta-2026/2026-08-02/
LOCATION:GMBC at Johannesburg Botanical Gardens\, Johannesburg Botanical Gardens\, Johannesburg\, South Africa
GEO:-26.151746038279;28.003153071932
X-APPLE-STRUCTURED-LOCATION;VALUE=URI;X-ADDRESS=GMBC at Johannesburg Botanical Gardens Johannesburg Botanical Gardens Johannesburg South Africa;X-APPLE-RADIUS=500;X-TITLE=Johannesburg Botanical Gardens:geo:28.003153071932,-26.151746038279
END:VEVENT
BEGIN:VEVENT
DTSTART;TZID=Africa/Johannesburg:20260809T110000
DTEND;TZID=Africa/Johannesburg:20260809T130000
DTSTAMP:20260421T115342
CREATED:20260105T055333Z
LAST-MODIFIED:20260206T052023Z
UID:10000062-1786273200-1786280400@gmbc.co.za
SUMMARY:Scale and Sail Open Day
DESCRIPTION:Please join us on the 2nd Sunday of the month for a variety of yachts\, boats\, ships and submarines on and under the water.
URL:https://gmbc.co.za/event/scale-and-sail-open-day/2026-08-09/
LOCATION:GMBC at Johannesburg Botanical Gardens\, Johannesburg Botanical Gardens\, Johannesburg\, South Africa
GEO:-26.151746038279;28.003153071932
X-APPLE-STRUCTURED-LOCATION;VALUE=URI;X-ADDRESS=GMBC at Johannesburg Botanical Gardens Johannesburg Botanical Gardens Johannesburg South Africa;X-APPLE-RADIUS=500;X-TITLE=Johannesburg Botanical Gardens:geo:28.003153071932,-26.151746038279
END:VEVENT
BEGIN:VEVENT
DTSTART;TZID=Africa/Johannesburg:20260814T080000
DTEND;TZID=Africa/Johannesburg:20260816T170000
DTSTAMP:20260421T115342
CREATED:20260203T084529Z
LAST-MODIFIED:20260203T084529Z
UID:10000053-1786694400-1786899600@gmbc.co.za
SUMMARY:IOM NATIONALS - WITBANK
DESCRIPTION:
URL:https://gmbc.co.za/event/iom-nationals-witbank/
LOCATION:Gauteng
END:VEVENT
BEGIN:VEVENT
DTSTART;TZID=Africa/Johannesburg:20260816T100000
DTEND;TZID=Africa/Johannesburg:20260816T150000
DTSTAMP:20260421T115342
CREATED:20260203T063429Z
LAST-MODIFIED:20260203T063429Z
UID:10000013-1786874400-1786892400@gmbc.co.za
SUMMARY:GMBC Seawind Regatta 2026
DESCRIPTION:Please join us from 10 am for Tune-up Races.
URL:https://gmbc.co.za/event/gmbc-seawind-regatta-2026/2026-08-16/
LOCATION:GMBC at Johannesburg Botanical Gardens\, Johannesburg Botanical Gardens\, Johannesburg\, South Africa
GEO:-26.151746038279;28.003153071932
X-APPLE-STRUCTURED-LOCATION;VALUE=URI;X-ADDRESS=GMBC at Johannesburg Botanical Gardens Johannesburg Botanical Gardens Johannesburg South Africa;X-APPLE-RADIUS=500;X-TITLE=Johannesburg Botanical Gardens:geo:28.003153071932,-26.151746038279
END:VEVENT
BEGIN:VEVENT
DTSTART;TZID=Africa/Johannesburg:20260823T080000
DTEND;TZID=Africa/Johannesburg:20260823T170000
DTSTAMP:20260421T115342
CREATED:20260203T094848Z
LAST-MODIFIED:20260203T094848Z
UID:10000055-1787472000-1787504400@gmbc.co.za
SUMMARY:Seawinds Gmbc  alterative date from 16th August
DESCRIPTION:
URL:https://gmbc.co.za/event/seawinds-gmbc-alterative-date-from-16th-august/
LOCATION:Gauteng
END:VEVENT
BEGIN:VEVENT
DTSTART;TZID=Africa/Johannesburg:20260823T110000
DTEND;TZID=Africa/Johannesburg:20260823T130000
DTSTAMP:20260421T115342
CREATED:20260206T045842Z
LAST-MODIFIED:20260206T052103Z
UID:10000122-1787482800-1787490000@gmbc.co.za
SUMMARY:Scale and Sail Open Day
DESCRIPTION:Please join us on the last Sunday of the month for a variety of yachts\, boats\, ships and submarines on and under the water.
URL:https://gmbc.co.za/event/scale-and-sail-open-day-2/2026-08-23/
LOCATION:Gauteng
END:VEVENT
BEGIN:VEVENT
DTSTART;TZID=Africa/Johannesburg:20260906T090000
DTEND;TZID=Africa/Johannesburg:20260906T130000
DTSTAMP:20260421T115342
CREATED:20260206T050031Z
LAST-MODIFIED:20260206T050031Z
UID:10000182-1788685200-1788699600@gmbc.co.za
SUMMARY:Social at Maggie's Farm - Home of the Chicken Pie
DESCRIPTION:Please come join us for a breakfast at 9 am\, followed by activities on the water from 10h30 to 13h00.
URL:https://gmbc.co.za/event/social-at-maggies-farm-home-of-the-chicken-pie/2026-09-06/
LOCATION:Maggies Farm\, The Restaurant at Maggie's Farm\, Lanseria\, Gauteng\, 1748\, South Africa
END:VEVENT
BEGIN:VEVENT
DTSTART;TZID=Africa/Johannesburg:20260906T100000
DTEND;TZID=Africa/Johannesburg:20260906T150000
DTSTAMP:20260421T115342
CREATED:20260203T063625Z
LAST-MODIFIED:20260203T063625Z
UID:10000035-1788688800-1788706800@gmbc.co.za
SUMMARY:GMBC IOM Regatta 2026
DESCRIPTION:Please join us from 10 am for Tune-up Races
URL:https://gmbc.co.za/event/gmbc-iom-regatta-2026/2026-09-06/
LOCATION:GMBC at Johannesburg Botanical Gardens\, Johannesburg Botanical Gardens\, Johannesburg\, South Africa
GEO:-26.151746038279;28.003153071932
X-APPLE-STRUCTURED-LOCATION;VALUE=URI;X-ADDRESS=GMBC at Johannesburg Botanical Gardens Johannesburg Botanical Gardens Johannesburg South Africa;X-APPLE-RADIUS=500;X-TITLE=Johannesburg Botanical Gardens:geo:28.003153071932,-26.151746038279
END:VEVENT
BEGIN:VEVENT
DTSTART;TZID=Africa/Johannesburg:20260913T110000
DTEND;TZID=Africa/Johannesburg:20260913T130000
DTSTAMP:20260421T115342
CREATED:20260105T055333Z
LAST-MODIFIED:20260206T052023Z
UID:10000063-1789297200-1789304400@gmbc.co.za
SUMMARY:Scale and Sail Open Day
DESCRIPTION:Please join us on the 2nd Sunday of the month for a variety of yachts\, boats\, ships and submarines on and under the water.
URL:https://gmbc.co.za/event/scale-and-sail-open-day/2026-09-13/
LOCATION:GMBC at Johannesburg Botanical Gardens\, Johannesburg Botanical Gardens\, Johannesburg\, South Africa
GEO:-26.151746038279;28.003153071932
X-APPLE-STRUCTURED-LOCATION;VALUE=URI;X-ADDRESS=GMBC at Johannesburg Botanical Gardens Johannesburg Botanical Gardens Johannesburg South Africa;X-APPLE-RADIUS=500;X-TITLE=Johannesburg Botanical Gardens:geo:28.003153071932,-26.151746038279
END:VEVENT
BEGIN:VEVENT
DTSTART;TZID=Africa/Johannesburg:20260920T100000
DTEND;TZID=Africa/Johannesburg:20260920T150000
DTSTAMP:20260421T115342
CREATED:20260203T063429Z
LAST-MODIFIED:20260203T063429Z
UID:10000014-1789898400-1789916400@gmbc.co.za
SUMMARY:GMBC Seawind Regatta 2026
DESCRIPTION:Please join us from 10 am for Tune-up Races.
URL:https://gmbc.co.za/event/gmbc-seawind-regatta-2026/2026-09-20/
LOCATION:GMBC at Johannesburg Botanical Gardens\, Johannesburg Botanical Gardens\, Johannesburg\, South Africa
GEO:-26.151746038279;28.003153071932
X-APPLE-STRUCTURED-LOCATION;VALUE=URI;X-ADDRESS=GMBC at Johannesburg Botanical Gardens Johannesburg Botanical Gardens Johannesburg South Africa;X-APPLE-RADIUS=500;X-TITLE=Johannesburg Botanical Gardens:geo:28.003153071932,-26.151746038279
END:VEVENT
BEGIN:VEVENT
DTSTART;TZID=Africa/Johannesburg:20260927T110000
DTEND;TZID=Africa/Johannesburg:20260927T130000
DTSTAMP:20260421T115342
CREATED:20260206T045842Z
LAST-MODIFIED:20260206T052103Z
UID:10000123-1790506800-1790514000@gmbc.co.za
SUMMARY:Scale and Sail Open Day
DESCRIPTION:Please join us on the last Sunday of the month for a variety of yachts\, boats\, ships and submarines on and under the water.
URL:https://gmbc.co.za/event/scale-and-sail-open-day-2/2026-09-27/
LOCATION:Gauteng
END:VEVENT
BEGIN:VEVENT
DTSTART;TZID=Africa/Johannesburg:20261004T090000
DTEND;TZID=Africa/Johannesburg:20261004T130000
DTSTAMP:20260421T115342
CREATED:20260206T050031Z
LAST-MODIFIED:20260206T050031Z
UID:10000183-1791104400-1791118800@gmbc.co.za
SUMMARY:Social at Maggie's Farm - Home of the Chicken Pie
DESCRIPTION:Please come join us for a breakfast at 9 am\, followed by activities on the water from 10h30 to 13h00.
URL:https://gmbc.co.za/event/social-at-maggies-farm-home-of-the-chicken-pie/2026-10-04/
LOCATION:Maggies Farm\, The Restaurant at Maggie's Farm\, Lanseria\, Gauteng\, 1748\, South Africa
END:VEVENT
BEGIN:VEVENT
DTSTART;TZID=Africa/Johannesburg:20261004T100000
DTEND;TZID=Africa/Johannesburg:20261004T150000
DTSTAMP:20260421T115342
CREATED:20260203T063625Z
LAST-MODIFIED:20260203T063625Z
UID:10000036-1791108000-1791126000@gmbc.co.za
SUMMARY:GMBC IOM Regatta 2026
DESCRIPTION:Please join us from 10 am for Tune-up Races
URL:https://gmbc.co.za/event/gmbc-iom-regatta-2026/2026-10-04/
LOCATION:GMBC at Johannesburg Botanical Gardens\, Johannesburg Botanical Gardens\, Johannesburg\, South Africa
GEO:-26.151746038279;28.003153071932
X-APPLE-STRUCTURED-LOCATION;VALUE=URI;X-ADDRESS=GMBC at Johannesburg Botanical Gardens Johannesburg Botanical Gardens Johannesburg South Africa;X-APPLE-RADIUS=500;X-TITLE=Johannesburg Botanical Gardens:geo:28.003153071932,-26.151746038279
END:VEVENT
BEGIN:VEVENT
DTSTART;TZID=Africa/Johannesburg:20261011T110000
DTEND;TZID=Africa/Johannesburg:20261011T130000
DTSTAMP:20260421T115342
CREATED:20260105T055333Z
LAST-MODIFIED:20260206T052023Z
UID:10000064-1791716400-1791723600@gmbc.co.za
SUMMARY:Scale and Sail Open Day
DESCRIPTION:Please join us on the 2nd Sunday of the month for a variety of yachts\, boats\, ships and submarines on and under the water.
URL:https://gmbc.co.za/event/scale-and-sail-open-day/2026-10-11/
LOCATION:GMBC at Johannesburg Botanical Gardens\, Johannesburg Botanical Gardens\, Johannesburg\, South Africa
GEO:-26.151746038279;28.003153071932
X-APPLE-STRUCTURED-LOCATION;VALUE=URI;X-ADDRESS=GMBC at Johannesburg Botanical Gardens Johannesburg Botanical Gardens Johannesburg South Africa;X-APPLE-RADIUS=500;X-TITLE=Johannesburg Botanical Gardens:geo:28.003153071932,-26.151746038279
END:VEVENT
BEGIN:VEVENT
DTSTART;TZID=Africa/Johannesburg:20261016T080000
DTEND;TZID=Africa/Johannesburg:20261023T170000
DTSTAMP:20260421T115342
CREATED:20260203T084906Z
LAST-MODIFIED:20260203T084906Z
UID:10000054-1792137600-1792774800@gmbc.co.za
SUMMARY:DF95 WORLDS - THREEWATERS
DESCRIPTION:
URL:https://gmbc.co.za/event/df95-worlds-threewaters/
LOCATION:Gauteng
END:VEVENT
BEGIN:VEVENT
DTSTART;TZID=Africa/Johannesburg:20261018T100000
DTEND;TZID=Africa/Johannesburg:20261018T150000
DTSTAMP:20260421T115342
CREATED:20260203T063429Z
LAST-MODIFIED:20260203T063429Z
UID:10000015-1792317600-1792335600@gmbc.co.za
SUMMARY:GMBC Seawind Regatta 2026
DESCRIPTION:Please join us from 10 am for Tune-up Races.
URL:https://gmbc.co.za/event/gmbc-seawind-regatta-2026/2026-10-18/
LOCATION:GMBC at Johannesburg Botanical Gardens\, Johannesburg Botanical Gardens\, Johannesburg\, South Africa
GEO:-26.151746038279;28.003153071932
X-APPLE-STRUCTURED-LOCATION;VALUE=URI;X-ADDRESS=GMBC at Johannesburg Botanical Gardens Johannesburg Botanical Gardens Johannesburg South Africa;X-APPLE-RADIUS=500;X-TITLE=Johannesburg Botanical Gardens:geo:28.003153071932,-26.151746038279
END:VEVENT
BEGIN:VEVENT
DTSTART;TZID=Africa/Johannesburg:20261025T110000
DTEND;TZID=Africa/Johannesburg:20261025T130000
DTSTAMP:20260421T115342
CREATED:20260206T045842Z
LAST-MODIFIED:20260206T052103Z
UID:10000124-1792926000-1792933200@gmbc.co.za
SUMMARY:Scale and Sail Open Day
DESCRIPTION:Please join us on the last Sunday of the month for a variety of yachts\, boats\, ships and submarines on and under the water.
URL:https://gmbc.co.za/event/scale-and-sail-open-day-2/2026-10-25/
LOCATION:Gauteng
END:VEVENT
BEGIN:VEVENT
DTSTART;TZID=Africa/Johannesburg:20261101T090000
DTEND;TZID=Africa/Johannesburg:20261101T130000
DTSTAMP:20260421T115342
CREATED:20260206T050031Z
LAST-MODIFIED:20260206T050031Z
UID:10000184-1793523600-1793538000@gmbc.co.za
SUMMARY:Social at Maggie's Farm - Home of the Chicken Pie
DESCRIPTION:Please come join us for a breakfast at 9 am\, followed by activities on the water from 10h30 to 13h00.
URL:https://gmbc.co.za/event/social-at-maggies-farm-home-of-the-chicken-pie/2026-11-01/
LOCATION:Maggies Farm\, The Restaurant at Maggie's Farm\, Lanseria\, Gauteng\, 1748\, South Africa
END:VEVENT
BEGIN:VEVENT
DTSTART;TZID=Africa/Johannesburg:20261101T100000
DTEND;TZID=Africa/Johannesburg:20261101T150000
DTSTAMP:20260421T115342
CREATED:20260203T063625Z
LAST-MODIFIED:20260203T063625Z
UID:10000037-1793527200-1793545200@gmbc.co.za
SUMMARY:GMBC IOM Regatta 2026
DESCRIPTION:Please join us from 10 am for Tune-up Races
URL:https://gmbc.co.za/event/gmbc-iom-regatta-2026/2026-11-01/
LOCATION:GMBC at Johannesburg Botanical Gardens\, Johannesburg Botanical Gardens\, Johannesburg\, South Africa
GEO:-26.151746038279;28.003153071932
X-APPLE-STRUCTURED-LOCATION;VALUE=URI;X-ADDRESS=GMBC at Johannesburg Botanical Gardens Johannesburg Botanical Gardens Johannesburg South Africa;X-APPLE-RADIUS=500;X-TITLE=Johannesburg Botanical Gardens:geo:28.003153071932,-26.151746038279
END:VEVENT
BEGIN:VEVENT
DTSTART;TZID=Africa/Johannesburg:20261108T110000
DTEND;TZID=Africa/Johannesburg:20261108T130000
DTSTAMP:20260421T115342
CREATED:20260105T055333Z
LAST-MODIFIED:20260206T052023Z
UID:10000065-1794135600-1794142800@gmbc.co.za
SUMMARY:Scale and Sail Open Day
DESCRIPTION:Please join us on the 2nd Sunday of the month for a variety of yachts\, boats\, ships and submarines on and under the water.
URL:https://gmbc.co.za/event/scale-and-sail-open-day/2026-11-08/
LOCATION:GMBC at Johannesburg Botanical Gardens\, Johannesburg Botanical Gardens\, Johannesburg\, South Africa
GEO:-26.151746038279;28.003153071932
X-APPLE-STRUCTURED-LOCATION;VALUE=URI;X-ADDRESS=GMBC at Johannesburg Botanical Gardens Johannesburg Botanical Gardens Johannesburg South Africa;X-APPLE-RADIUS=500;X-TITLE=Johannesburg Botanical Gardens:geo:28.003153071932,-26.151746038279
END:VEVENT
BEGIN:VEVENT
DTSTART;TZID=Africa/Johannesburg:20261115T100000
DTEND;TZID=Africa/Johannesburg:20261115T150000
DTSTAMP:20260421T115342
CREATED:20260203T063429Z
LAST-MODIFIED:20260203T063429Z
UID:10000016-1794736800-1794754800@gmbc.co.za
SUMMARY:GMBC Seawind Regatta 2026
DESCRIPTION:Please join us from 10 am for Tune-up Races.
URL:https://gmbc.co.za/event/gmbc-seawind-regatta-2026/2026-11-15/
LOCATION:GMBC at Johannesburg Botanical Gardens\, Johannesburg Botanical Gardens\, Johannesburg\, South Africa
GEO:-26.151746038279;28.003153071932
X-APPLE-STRUCTURED-LOCATION;VALUE=URI;X-ADDRESS=GMBC at Johannesburg Botanical Gardens Johannesburg Botanical Gardens Johannesburg South Africa;X-APPLE-RADIUS=500;X-TITLE=Johannesburg Botanical Gardens:geo:28.003153071932,-26.151746038279
END:VEVENT
BEGIN:VEVENT
DTSTART;TZID=Africa/Johannesburg:20261122T110000
DTEND;TZID=Africa/Johannesburg:20261122T130000
DTSTAMP:20260421T115342
CREATED:20260206T045842Z
LAST-MODIFIED:20260206T052103Z
UID:10000125-1795345200-1795352400@gmbc.co.za
SUMMARY:Scale and Sail Open Day
DESCRIPTION:Please join us on the last Sunday of the month for a variety of yachts\, boats\, ships and submarines on and under the water.
URL:https://gmbc.co.za/event/scale-and-sail-open-day-2/2026-11-22/
LOCATION:Gauteng
END:VEVENT
BEGIN:VEVENT
DTSTART;TZID=Africa/Johannesburg:20261206T090000
DTEND;TZID=Africa/Johannesburg:20261206T130000
DTSTAMP:20260421T115342
CREATED:20260206T050031Z
LAST-MODIFIED:20260206T050031Z
UID:10000185-1796547600-1796562000@gmbc.co.za
SUMMARY:Social at Maggie's Farm - Home of the Chicken Pie
DESCRIPTION:Please come join us for a breakfast at 9 am\, followed by activities on the water from 10h30 to 13h00.
URL:https://gmbc.co.za/event/social-at-maggies-farm-home-of-the-chicken-pie/2026-12-06/
LOCATION:Maggies Farm\, The Restaurant at Maggie's Farm\, Lanseria\, Gauteng\, 1748\, South Africa
END:VEVENT
END:VCALENDAR