BEGIN:VCALENDAR
VERSION:2.0
PRODID:-//GMBC - ECPv6.15.20//NONSGML v1.0//EN
CALSCALE:GREGORIAN
METHOD:PUBLISH
X-ORIGINAL-URL:https://gmbc.co.za
X-WR-CALDESC:Events for GMBC
REFRESH-INTERVAL;VALUE=DURATION:PT1H
X-Robots-Tag:noindex
X-PUBLISHED-TTL:PT1H
BEGIN:VTIMEZONE
TZID:Africa/Johannesburg
BEGIN:STANDARD
TZOFFSETFROM:+0200
TZOFFSETTO:+0200
TZNAME:SAST
DTSTART:20260101T000000
END:STANDARD
END:VTIMEZONE
BEGIN:VEVENT
DTSTART;TZID=Africa/Johannesburg:20270606T100000
DTEND;TZID=Africa/Johannesburg:20270606T150000
DTSTAMP:20260421T194235
CREATED:20260203T063625Z
LAST-MODIFIED:20260203T063625Z
UID:10000044-1812276000-1812294000@gmbc.co.za
SUMMARY:GMBC IOM Regatta 2026
DESCRIPTION:Please join us from 10 am for Tune-up Races
URL:https://gmbc.co.za/event/gmbc-iom-regatta-2026/2027-06-06/
LOCATION:GMBC at Johannesburg Botanical Gardens\, Johannesburg Botanical Gardens\, Johannesburg\, South Africa
GEO:-26.151746038279;28.003153071932
X-APPLE-STRUCTURED-LOCATION;VALUE=URI;X-ADDRESS=GMBC at Johannesburg Botanical Gardens Johannesburg Botanical Gardens Johannesburg South Africa;X-APPLE-RADIUS=500;X-TITLE=Johannesburg Botanical Gardens:geo:28.003153071932,-26.151746038279
END:VEVENT
BEGIN:VEVENT
DTSTART;TZID=Africa/Johannesburg:20270613T110000
DTEND;TZID=Africa/Johannesburg:20270613T130000
DTSTAMP:20260421T194235
CREATED:20260105T055333Z
LAST-MODIFIED:20260206T052023Z
UID:10000072-1812884400-1812891600@gmbc.co.za
SUMMARY:Scale and Sail Open Day
DESCRIPTION:Please join us on the 2nd Sunday of the month for a variety of yachts\, boats\, ships and submarines on and under the water.
URL:https://gmbc.co.za/event/scale-and-sail-open-day/2027-06-13/
LOCATION:GMBC at Johannesburg Botanical Gardens\, Johannesburg Botanical Gardens\, Johannesburg\, South Africa
GEO:-26.151746038279;28.003153071932
X-APPLE-STRUCTURED-LOCATION;VALUE=URI;X-ADDRESS=GMBC at Johannesburg Botanical Gardens Johannesburg Botanical Gardens Johannesburg South Africa;X-APPLE-RADIUS=500;X-TITLE=Johannesburg Botanical Gardens:geo:28.003153071932,-26.151746038279
END:VEVENT
BEGIN:VEVENT
DTSTART;TZID=Africa/Johannesburg:20270620T100000
DTEND;TZID=Africa/Johannesburg:20270620T150000
DTSTAMP:20260421T194235
CREATED:20260203T063429Z
LAST-MODIFIED:20260203T063429Z
UID:10000023-1813485600-1813503600@gmbc.co.za
SUMMARY:GMBC Seawind Regatta 2026
DESCRIPTION:Please join us from 10 am for Tune-up Races.
URL:https://gmbc.co.za/event/gmbc-seawind-regatta-2026/2027-06-20/
LOCATION:GMBC at Johannesburg Botanical Gardens\, Johannesburg Botanical Gardens\, Johannesburg\, South Africa
GEO:-26.151746038279;28.003153071932
X-APPLE-STRUCTURED-LOCATION;VALUE=URI;X-ADDRESS=GMBC at Johannesburg Botanical Gardens Johannesburg Botanical Gardens Johannesburg South Africa;X-APPLE-RADIUS=500;X-TITLE=Johannesburg Botanical Gardens:geo:28.003153071932,-26.151746038279
END:VEVENT
BEGIN:VEVENT
DTSTART;TZID=Africa/Johannesburg:20270627T110000
DTEND;TZID=Africa/Johannesburg:20270627T130000
DTSTAMP:20260421T194235
CREATED:20260206T045842Z
LAST-MODIFIED:20260206T052103Z
UID:10000132-1814094000-1814101200@gmbc.co.za
SUMMARY:Scale and Sail Open Day
DESCRIPTION:Please join us on the last Sunday of the month for a variety of yachts\, boats\, ships and submarines on and under the water.
URL:https://gmbc.co.za/event/scale-and-sail-open-day-2/2027-06-27/
END:VEVENT
BEGIN:VEVENT
DTSTART;TZID=Africa/Johannesburg:20270704T090000
DTEND;TZID=Africa/Johannesburg:20270704T130000
DTSTAMP:20260421T194235
CREATED:20260206T050031Z
LAST-MODIFIED:20260206T050031Z
UID:10000192-1814691600-1814706000@gmbc.co.za
SUMMARY:Social at Maggie's Farm - Home of the Chicken Pie
DESCRIPTION:Please come join us for a breakfast at 9 am\, followed by activities on the water from 10h30 to 13h00.
URL:https://gmbc.co.za/event/social-at-maggies-farm-home-of-the-chicken-pie/2027-07-04/
LOCATION:Maggies Farm\, The Restaurant at Maggie's Farm\, Lanseria\, Gauteng\, 1748\, South Africa
END:VEVENT
BEGIN:VEVENT
DTSTART;TZID=Africa/Johannesburg:20270704T100000
DTEND;TZID=Africa/Johannesburg:20270704T150000
DTSTAMP:20260421T194235
CREATED:20260203T063625Z
LAST-MODIFIED:20260203T063625Z
UID:10000045-1814695200-1814713200@gmbc.co.za
SUMMARY:GMBC IOM Regatta 2026
DESCRIPTION:Please join us from 10 am for Tune-up Races
URL:https://gmbc.co.za/event/gmbc-iom-regatta-2026/2027-07-04/
LOCATION:GMBC at Johannesburg Botanical Gardens\, Johannesburg Botanical Gardens\, Johannesburg\, South Africa
GEO:-26.151746038279;28.003153071932
X-APPLE-STRUCTURED-LOCATION;VALUE=URI;X-ADDRESS=GMBC at Johannesburg Botanical Gardens Johannesburg Botanical Gardens Johannesburg South Africa;X-APPLE-RADIUS=500;X-TITLE=Johannesburg Botanical Gardens:geo:28.003153071932,-26.151746038279
END:VEVENT
BEGIN:VEVENT
DTSTART;TZID=Africa/Johannesburg:20270711T110000
DTEND;TZID=Africa/Johannesburg:20270711T130000
DTSTAMP:20260421T194235
CREATED:20260105T055333Z
LAST-MODIFIED:20260206T052023Z
UID:10000073-1815303600-1815310800@gmbc.co.za
SUMMARY:Scale and Sail Open Day
DESCRIPTION:Please join us on the 2nd Sunday of the month for a variety of yachts\, boats\, ships and submarines on and under the water.
URL:https://gmbc.co.za/event/scale-and-sail-open-day/2027-07-11/
LOCATION:GMBC at Johannesburg Botanical Gardens\, Johannesburg Botanical Gardens\, Johannesburg\, South Africa
GEO:-26.151746038279;28.003153071932
X-APPLE-STRUCTURED-LOCATION;VALUE=URI;X-ADDRESS=GMBC at Johannesburg Botanical Gardens Johannesburg Botanical Gardens Johannesburg South Africa;X-APPLE-RADIUS=500;X-TITLE=Johannesburg Botanical Gardens:geo:28.003153071932,-26.151746038279
END:VEVENT
BEGIN:VEVENT
DTSTART;TZID=Africa/Johannesburg:20270718T100000
DTEND;TZID=Africa/Johannesburg:20270718T150000
DTSTAMP:20260421T194235
CREATED:20260203T063429Z
LAST-MODIFIED:20260203T063429Z
UID:10000024-1815904800-1815922800@gmbc.co.za
SUMMARY:GMBC Seawind Regatta 2026
DESCRIPTION:Please join us from 10 am for Tune-up Races.
URL:https://gmbc.co.za/event/gmbc-seawind-regatta-2026/2027-07-18/
LOCATION:GMBC at Johannesburg Botanical Gardens\, Johannesburg Botanical Gardens\, Johannesburg\, South Africa
GEO:-26.151746038279;28.003153071932
X-APPLE-STRUCTURED-LOCATION;VALUE=URI;X-ADDRESS=GMBC at Johannesburg Botanical Gardens Johannesburg Botanical Gardens Johannesburg South Africa;X-APPLE-RADIUS=500;X-TITLE=Johannesburg Botanical Gardens:geo:28.003153071932,-26.151746038279
END:VEVENT
BEGIN:VEVENT
DTSTART;TZID=Africa/Johannesburg:20270725T110000
DTEND;TZID=Africa/Johannesburg:20270725T130000
DTSTAMP:20260421T194235
CREATED:20260206T045842Z
LAST-MODIFIED:20260206T052103Z
UID:10000133-1816513200-1816520400@gmbc.co.za
SUMMARY:Scale and Sail Open Day
DESCRIPTION:Please join us on the last Sunday of the month for a variety of yachts\, boats\, ships and submarines on and under the water.
URL:https://gmbc.co.za/event/scale-and-sail-open-day-2/2027-07-25/
END:VEVENT
BEGIN:VEVENT
DTSTART;TZID=Africa/Johannesburg:20270801T090000
DTEND;TZID=Africa/Johannesburg:20270801T130000
DTSTAMP:20260421T194235
CREATED:20260206T050031Z
LAST-MODIFIED:20260206T050031Z
UID:10000193-1817110800-1817125200@gmbc.co.za
SUMMARY:Social at Maggie's Farm - Home of the Chicken Pie
DESCRIPTION:Please come join us for a breakfast at 9 am\, followed by activities on the water from 10h30 to 13h00.
URL:https://gmbc.co.za/event/social-at-maggies-farm-home-of-the-chicken-pie/2027-08-01/
LOCATION:Maggies Farm\, The Restaurant at Maggie's Farm\, Lanseria\, Gauteng\, 1748\, South Africa
END:VEVENT
BEGIN:VEVENT
DTSTART;TZID=Africa/Johannesburg:20270801T100000
DTEND;TZID=Africa/Johannesburg:20270801T150000
DTSTAMP:20260421T194235
CREATED:20260203T063625Z
LAST-MODIFIED:20260203T063625Z
UID:10000046-1817114400-1817132400@gmbc.co.za
SUMMARY:GMBC IOM Regatta 2026
DESCRIPTION:Please join us from 10 am for Tune-up Races
URL:https://gmbc.co.za/event/gmbc-iom-regatta-2026/2027-08-01/
LOCATION:GMBC at Johannesburg Botanical Gardens\, Johannesburg Botanical Gardens\, Johannesburg\, South Africa
GEO:-26.151746038279;28.003153071932
X-APPLE-STRUCTURED-LOCATION;VALUE=URI;X-ADDRESS=GMBC at Johannesburg Botanical Gardens Johannesburg Botanical Gardens Johannesburg South Africa;X-APPLE-RADIUS=500;X-TITLE=Johannesburg Botanical Gardens:geo:28.003153071932,-26.151746038279
END:VEVENT
BEGIN:VEVENT
DTSTART;TZID=Africa/Johannesburg:20270808T110000
DTEND;TZID=Africa/Johannesburg:20270808T130000
DTSTAMP:20260421T194235
CREATED:20260105T055333Z
LAST-MODIFIED:20260206T052023Z
UID:10000074-1817722800-1817730000@gmbc.co.za
SUMMARY:Scale and Sail Open Day
DESCRIPTION:Please join us on the 2nd Sunday of the month for a variety of yachts\, boats\, ships and submarines on and under the water.
URL:https://gmbc.co.za/event/scale-and-sail-open-day/2027-08-08/
LOCATION:GMBC at Johannesburg Botanical Gardens\, Johannesburg Botanical Gardens\, Johannesburg\, South Africa
GEO:-26.151746038279;28.003153071932
X-APPLE-STRUCTURED-LOCATION;VALUE=URI;X-ADDRESS=GMBC at Johannesburg Botanical Gardens Johannesburg Botanical Gardens Johannesburg South Africa;X-APPLE-RADIUS=500;X-TITLE=Johannesburg Botanical Gardens:geo:28.003153071932,-26.151746038279
END:VEVENT
BEGIN:VEVENT
DTSTART;TZID=Africa/Johannesburg:20270815T100000
DTEND;TZID=Africa/Johannesburg:20270815T150000
DTSTAMP:20260421T194235
CREATED:20260203T063429Z
LAST-MODIFIED:20260203T063429Z
UID:10000025-1818324000-1818342000@gmbc.co.za
SUMMARY:GMBC Seawind Regatta 2026
DESCRIPTION:Please join us from 10 am for Tune-up Races.
URL:https://gmbc.co.za/event/gmbc-seawind-regatta-2026/2027-08-15/
LOCATION:GMBC at Johannesburg Botanical Gardens\, Johannesburg Botanical Gardens\, Johannesburg\, South Africa
GEO:-26.151746038279;28.003153071932
X-APPLE-STRUCTURED-LOCATION;VALUE=URI;X-ADDRESS=GMBC at Johannesburg Botanical Gardens Johannesburg Botanical Gardens Johannesburg South Africa;X-APPLE-RADIUS=500;X-TITLE=Johannesburg Botanical Gardens:geo:28.003153071932,-26.151746038279
END:VEVENT
BEGIN:VEVENT
DTSTART;TZID=Africa/Johannesburg:20270822T110000
DTEND;TZID=Africa/Johannesburg:20270822T130000
DTSTAMP:20260421T194235
CREATED:20260206T045842Z
LAST-MODIFIED:20260206T052103Z
UID:10000134-1818932400-1818939600@gmbc.co.za
SUMMARY:Scale and Sail Open Day
DESCRIPTION:Please join us on the last Sunday of the month for a variety of yachts\, boats\, ships and submarines on and under the water.
URL:https://gmbc.co.za/event/scale-and-sail-open-day-2/2027-08-22/
END:VEVENT
BEGIN:VEVENT
DTSTART;TZID=Africa/Johannesburg:20270905T090000
DTEND;TZID=Africa/Johannesburg:20270905T130000
DTSTAMP:20260421T194235
CREATED:20260206T050031Z
LAST-MODIFIED:20260206T050031Z
UID:10000194-1820134800-1820149200@gmbc.co.za
SUMMARY:Social at Maggie's Farm - Home of the Chicken Pie
DESCRIPTION:Please come join us for a breakfast at 9 am\, followed by activities on the water from 10h30 to 13h00.
URL:https://gmbc.co.za/event/social-at-maggies-farm-home-of-the-chicken-pie/2027-09-05/
LOCATION:Maggies Farm\, The Restaurant at Maggie's Farm\, Lanseria\, Gauteng\, 1748\, South Africa
END:VEVENT
BEGIN:VEVENT
DTSTART;TZID=Africa/Johannesburg:20270905T100000
DTEND;TZID=Africa/Johannesburg:20270905T150000
DTSTAMP:20260421T194235
CREATED:20260203T063625Z
LAST-MODIFIED:20260203T063625Z
UID:10000047-1820138400-1820156400@gmbc.co.za
SUMMARY:GMBC IOM Regatta 2026
DESCRIPTION:Please join us from 10 am for Tune-up Races
URL:https://gmbc.co.za/event/gmbc-iom-regatta-2026/2027-09-05/
LOCATION:GMBC at Johannesburg Botanical Gardens\, Johannesburg Botanical Gardens\, Johannesburg\, South Africa
GEO:-26.151746038279;28.003153071932
X-APPLE-STRUCTURED-LOCATION;VALUE=URI;X-ADDRESS=GMBC at Johannesburg Botanical Gardens Johannesburg Botanical Gardens Johannesburg South Africa;X-APPLE-RADIUS=500;X-TITLE=Johannesburg Botanical Gardens:geo:28.003153071932,-26.151746038279
END:VEVENT
BEGIN:VEVENT
DTSTART;TZID=Africa/Johannesburg:20270912T110000
DTEND;TZID=Africa/Johannesburg:20270912T130000
DTSTAMP:20260421T194235
CREATED:20260105T055333Z
LAST-MODIFIED:20260206T052023Z
UID:10000075-1820746800-1820754000@gmbc.co.za
SUMMARY:Scale and Sail Open Day
DESCRIPTION:Please join us on the 2nd Sunday of the month for a variety of yachts\, boats\, ships and submarines on and under the water.
URL:https://gmbc.co.za/event/scale-and-sail-open-day/2027-09-12/
LOCATION:GMBC at Johannesburg Botanical Gardens\, Johannesburg Botanical Gardens\, Johannesburg\, South Africa
GEO:-26.151746038279;28.003153071932
X-APPLE-STRUCTURED-LOCATION;VALUE=URI;X-ADDRESS=GMBC at Johannesburg Botanical Gardens Johannesburg Botanical Gardens Johannesburg South Africa;X-APPLE-RADIUS=500;X-TITLE=Johannesburg Botanical Gardens:geo:28.003153071932,-26.151746038279
END:VEVENT
BEGIN:VEVENT
DTSTART;TZID=Africa/Johannesburg:20270919T100000
DTEND;TZID=Africa/Johannesburg:20270919T150000
DTSTAMP:20260421T194235
CREATED:20260203T063429Z
LAST-MODIFIED:20260203T063429Z
UID:10000026-1821348000-1821366000@gmbc.co.za
SUMMARY:GMBC Seawind Regatta 2026
DESCRIPTION:Please join us from 10 am for Tune-up Races.
URL:https://gmbc.co.za/event/gmbc-seawind-regatta-2026/2027-09-19/
LOCATION:GMBC at Johannesburg Botanical Gardens\, Johannesburg Botanical Gardens\, Johannesburg\, South Africa
GEO:-26.151746038279;28.003153071932
X-APPLE-STRUCTURED-LOCATION;VALUE=URI;X-ADDRESS=GMBC at Johannesburg Botanical Gardens Johannesburg Botanical Gardens Johannesburg South Africa;X-APPLE-RADIUS=500;X-TITLE=Johannesburg Botanical Gardens:geo:28.003153071932,-26.151746038279
END:VEVENT
BEGIN:VEVENT
DTSTART;TZID=Africa/Johannesburg:20270926T110000
DTEND;TZID=Africa/Johannesburg:20270926T130000
DTSTAMP:20260421T194235
CREATED:20260206T045842Z
LAST-MODIFIED:20260206T052103Z
UID:10000135-1821956400-1821963600@gmbc.co.za
SUMMARY:Scale and Sail Open Day
DESCRIPTION:Please join us on the last Sunday of the month for a variety of yachts\, boats\, ships and submarines on and under the water.
URL:https://gmbc.co.za/event/scale-and-sail-open-day-2/2027-09-26/
END:VEVENT
BEGIN:VEVENT
DTSTART;TZID=Africa/Johannesburg:20271003T090000
DTEND;TZID=Africa/Johannesburg:20271003T130000
DTSTAMP:20260421T194235
CREATED:20260206T050031Z
LAST-MODIFIED:20260206T050031Z
UID:10000195-1822554000-1822568400@gmbc.co.za
SUMMARY:Social at Maggie's Farm - Home of the Chicken Pie
DESCRIPTION:Please come join us for a breakfast at 9 am\, followed by activities on the water from 10h30 to 13h00.
URL:https://gmbc.co.za/event/social-at-maggies-farm-home-of-the-chicken-pie/2027-10-03/
LOCATION:Maggies Farm\, The Restaurant at Maggie's Farm\, Lanseria\, Gauteng\, 1748\, South Africa
END:VEVENT
BEGIN:VEVENT
DTSTART;TZID=Africa/Johannesburg:20271003T100000
DTEND;TZID=Africa/Johannesburg:20271003T150000
DTSTAMP:20260421T194235
CREATED:20260203T063625Z
LAST-MODIFIED:20260203T063625Z
UID:10000048-1822557600-1822575600@gmbc.co.za
SUMMARY:GMBC IOM Regatta 2026
DESCRIPTION:Please join us from 10 am for Tune-up Races
URL:https://gmbc.co.za/event/gmbc-iom-regatta-2026/2027-10-03/
LOCATION:GMBC at Johannesburg Botanical Gardens\, Johannesburg Botanical Gardens\, Johannesburg\, South Africa
GEO:-26.151746038279;28.003153071932
X-APPLE-STRUCTURED-LOCATION;VALUE=URI;X-ADDRESS=GMBC at Johannesburg Botanical Gardens Johannesburg Botanical Gardens Johannesburg South Africa;X-APPLE-RADIUS=500;X-TITLE=Johannesburg Botanical Gardens:geo:28.003153071932,-26.151746038279
END:VEVENT
BEGIN:VEVENT
DTSTART;TZID=Africa/Johannesburg:20271010T110000
DTEND;TZID=Africa/Johannesburg:20271010T130000
DTSTAMP:20260421T194235
CREATED:20260105T055333Z
LAST-MODIFIED:20260206T052023Z
UID:10000076-1823166000-1823173200@gmbc.co.za
SUMMARY:Scale and Sail Open Day
DESCRIPTION:Please join us on the 2nd Sunday of the month for a variety of yachts\, boats\, ships and submarines on and under the water.
URL:https://gmbc.co.za/event/scale-and-sail-open-day/2027-10-10/
LOCATION:GMBC at Johannesburg Botanical Gardens\, Johannesburg Botanical Gardens\, Johannesburg\, South Africa
GEO:-26.151746038279;28.003153071932
X-APPLE-STRUCTURED-LOCATION;VALUE=URI;X-ADDRESS=GMBC at Johannesburg Botanical Gardens Johannesburg Botanical Gardens Johannesburg South Africa;X-APPLE-RADIUS=500;X-TITLE=Johannesburg Botanical Gardens:geo:28.003153071932,-26.151746038279
END:VEVENT
BEGIN:VEVENT
DTSTART;TZID=Africa/Johannesburg:20271017T100000
DTEND;TZID=Africa/Johannesburg:20271017T150000
DTSTAMP:20260421T194235
CREATED:20260203T063429Z
LAST-MODIFIED:20260203T063429Z
UID:10000027-1823767200-1823785200@gmbc.co.za
SUMMARY:GMBC Seawind Regatta 2026
DESCRIPTION:Please join us from 10 am for Tune-up Races.
URL:https://gmbc.co.za/event/gmbc-seawind-regatta-2026/2027-10-17/
LOCATION:GMBC at Johannesburg Botanical Gardens\, Johannesburg Botanical Gardens\, Johannesburg\, South Africa
GEO:-26.151746038279;28.003153071932
X-APPLE-STRUCTURED-LOCATION;VALUE=URI;X-ADDRESS=GMBC at Johannesburg Botanical Gardens Johannesburg Botanical Gardens Johannesburg South Africa;X-APPLE-RADIUS=500;X-TITLE=Johannesburg Botanical Gardens:geo:28.003153071932,-26.151746038279
END:VEVENT
BEGIN:VEVENT
DTSTART;TZID=Africa/Johannesburg:20271024T110000
DTEND;TZID=Africa/Johannesburg:20271024T130000
DTSTAMP:20260421T194235
CREATED:20260206T045842Z
LAST-MODIFIED:20260206T052103Z
UID:10000136-1824375600-1824382800@gmbc.co.za
SUMMARY:Scale and Sail Open Day
DESCRIPTION:Please join us on the last Sunday of the month for a variety of yachts\, boats\, ships and submarines on and under the water.
URL:https://gmbc.co.za/event/scale-and-sail-open-day-2/2027-10-24/
END:VEVENT
BEGIN:VEVENT
DTSTART;TZID=Africa/Johannesburg:20271107T090000
DTEND;TZID=Africa/Johannesburg:20271107T130000
DTSTAMP:20260421T194235
CREATED:20260206T050031Z
LAST-MODIFIED:20260206T050031Z
UID:10000196-1825578000-1825592400@gmbc.co.za
SUMMARY:Social at Maggie's Farm - Home of the Chicken Pie
DESCRIPTION:Please come join us for a breakfast at 9 am\, followed by activities on the water from 10h30 to 13h00.
URL:https://gmbc.co.za/event/social-at-maggies-farm-home-of-the-chicken-pie/2027-11-07/
LOCATION:Maggies Farm\, The Restaurant at Maggie's Farm\, Lanseria\, Gauteng\, 1748\, South Africa
END:VEVENT
BEGIN:VEVENT
DTSTART;TZID=Africa/Johannesburg:20271107T100000
DTEND;TZID=Africa/Johannesburg:20271107T150000
DTSTAMP:20260421T194235
CREATED:20260203T063625Z
LAST-MODIFIED:20260203T063625Z
UID:10000049-1825581600-1825599600@gmbc.co.za
SUMMARY:GMBC IOM Regatta 2026
DESCRIPTION:Please join us from 10 am for Tune-up Races
URL:https://gmbc.co.za/event/gmbc-iom-regatta-2026/2027-11-07/
LOCATION:GMBC at Johannesburg Botanical Gardens\, Johannesburg Botanical Gardens\, Johannesburg\, South Africa
GEO:-26.151746038279;28.003153071932
X-APPLE-STRUCTURED-LOCATION;VALUE=URI;X-ADDRESS=GMBC at Johannesburg Botanical Gardens Johannesburg Botanical Gardens Johannesburg South Africa;X-APPLE-RADIUS=500;X-TITLE=Johannesburg Botanical Gardens:geo:28.003153071932,-26.151746038279
END:VEVENT
BEGIN:VEVENT
DTSTART;TZID=Africa/Johannesburg:20271114T110000
DTEND;TZID=Africa/Johannesburg:20271114T130000
DTSTAMP:20260421T194235
CREATED:20260105T055333Z
LAST-MODIFIED:20260206T052023Z
UID:10000077-1826190000-1826197200@gmbc.co.za
SUMMARY:Scale and Sail Open Day
DESCRIPTION:Please join us on the 2nd Sunday of the month for a variety of yachts\, boats\, ships and submarines on and under the water.
URL:https://gmbc.co.za/event/scale-and-sail-open-day/2027-11-14/
LOCATION:GMBC at Johannesburg Botanical Gardens\, Johannesburg Botanical Gardens\, Johannesburg\, South Africa
GEO:-26.151746038279;28.003153071932
X-APPLE-STRUCTURED-LOCATION;VALUE=URI;X-ADDRESS=GMBC at Johannesburg Botanical Gardens Johannesburg Botanical Gardens Johannesburg South Africa;X-APPLE-RADIUS=500;X-TITLE=Johannesburg Botanical Gardens:geo:28.003153071932,-26.151746038279
END:VEVENT
BEGIN:VEVENT
DTSTART;TZID=Africa/Johannesburg:20271121T100000
DTEND;TZID=Africa/Johannesburg:20271121T150000
DTSTAMP:20260421T194235
CREATED:20260203T063429Z
LAST-MODIFIED:20260203T063429Z
UID:10000028-1826791200-1826809200@gmbc.co.za
SUMMARY:GMBC Seawind Regatta 2026
DESCRIPTION:Please join us from 10 am for Tune-up Races.
URL:https://gmbc.co.za/event/gmbc-seawind-regatta-2026/2027-11-21/
LOCATION:GMBC at Johannesburg Botanical Gardens\, Johannesburg Botanical Gardens\, Johannesburg\, South Africa
GEO:-26.151746038279;28.003153071932
X-APPLE-STRUCTURED-LOCATION;VALUE=URI;X-ADDRESS=GMBC at Johannesburg Botanical Gardens Johannesburg Botanical Gardens Johannesburg South Africa;X-APPLE-RADIUS=500;X-TITLE=Johannesburg Botanical Gardens:geo:28.003153071932,-26.151746038279
END:VEVENT
BEGIN:VEVENT
DTSTART;TZID=Africa/Johannesburg:20271128T110000
DTEND;TZID=Africa/Johannesburg:20271128T130000
DTSTAMP:20260421T194235
CREATED:20260206T045842Z
LAST-MODIFIED:20260206T052103Z
UID:10000137-1827399600-1827406800@gmbc.co.za
SUMMARY:Scale and Sail Open Day
DESCRIPTION:Please join us on the last Sunday of the month for a variety of yachts\, boats\, ships and submarines on and under the water.
URL:https://gmbc.co.za/event/scale-and-sail-open-day-2/2027-11-28/
END:VEVENT
BEGIN:VEVENT
DTSTART;TZID=Africa/Johannesburg:20271205T090000
DTEND;TZID=Africa/Johannesburg:20271205T130000
DTSTAMP:20260421T194235
CREATED:20260206T050031Z
LAST-MODIFIED:20260206T050031Z
UID:10000197-1827997200-1828011600@gmbc.co.za
SUMMARY:Social at Maggie's Farm - Home of the Chicken Pie
DESCRIPTION:Please come join us for a breakfast at 9 am\, followed by activities on the water from 10h30 to 13h00.
URL:https://gmbc.co.za/event/social-at-maggies-farm-home-of-the-chicken-pie/2027-12-05/
LOCATION:Maggies Farm\, The Restaurant at Maggie's Farm\, Lanseria\, Gauteng\, 1748\, South Africa
END:VEVENT
END:VCALENDAR